BEGIN:VCALENDAR
VERSION:2.0
PRODID:-//Dare to Dream Stable - ECPv6.15.20//NONSGML v1.0//EN
CALSCALE:GREGORIAN
METHOD:PUBLISH
X-ORIGINAL-URL:https://www.daretodreamstable.com
X-WR-CALDESC:Events for Dare to Dream Stable
REFRESH-INTERVAL;VALUE=DURATION:PT1H
X-Robots-Tag:noindex
X-PUBLISHED-TTL:PT1H
BEGIN:VTIMEZONE
TZID:America/New_York
BEGIN:DAYLIGHT
TZOFFSETFROM:-0500
TZOFFSETTO:-0400
TZNAME:EDT
DTSTART:20220313T070000
END:DAYLIGHT
BEGIN:STANDARD
TZOFFSETFROM:-0400
TZOFFSETTO:-0500
TZNAME:EST
DTSTART:20221106T060000
END:STANDARD
BEGIN:DAYLIGHT
TZOFFSETFROM:-0500
TZOFFSETTO:-0400
TZNAME:EDT
DTSTART:20230312T070000
END:DAYLIGHT
BEGIN:STANDARD
TZOFFSETFROM:-0400
TZOFFSETTO:-0500
TZNAME:EST
DTSTART:20231105T060000
END:STANDARD
BEGIN:DAYLIGHT
TZOFFSETFROM:-0500
TZOFFSETTO:-0400
TZNAME:EDT
DTSTART:20240310T070000
END:DAYLIGHT
BEGIN:STANDARD
TZOFFSETFROM:-0400
TZOFFSETTO:-0500
TZNAME:EST
DTSTART:20241103T060000
END:STANDARD
END:VTIMEZONE
BEGIN:VTIMEZONE
TZID:America/Chicago
BEGIN:DAYLIGHT
TZOFFSETFROM:-0600
TZOFFSETTO:-0500
TZNAME:CDT
DTSTART:20220313T080000
END:DAYLIGHT
BEGIN:STANDARD
TZOFFSETFROM:-0500
TZOFFSETTO:-0600
TZNAME:CST
DTSTART:20221106T070000
END:STANDARD
BEGIN:DAYLIGHT
TZOFFSETFROM:-0600
TZOFFSETTO:-0500
TZNAME:CDT
DTSTART:20230312T080000
END:DAYLIGHT
BEGIN:STANDARD
TZOFFSETFROM:-0500
TZOFFSETTO:-0600
TZNAME:CST
DTSTART:20231105T070000
END:STANDARD
BEGIN:DAYLIGHT
TZOFFSETFROM:-0600
TZOFFSETTO:-0500
TZNAME:CDT
DTSTART:20240310T080000
END:DAYLIGHT
BEGIN:STANDARD
TZOFFSETFROM:-0500
TZOFFSETTO:-0600
TZNAME:CST
DTSTART:20241103T070000
END:STANDARD
END:VTIMEZONE
BEGIN:VEVENT
DTSTART;TZID=America/New_York:20230302T185000
DTEND;TZID=America/New_York:20230302T192500
DTSTAMP:20260425T074138
CREATED:20230224T211722Z
LAST-MODIFIED:20230224T211758Z
UID:19541-1677783000-1677785100@www.daretodreamstable.com
SUMMARY:RISING HEAT – Turfway Park race #3
DESCRIPTION:Dare To Dream Stable’s RISING HEAT runs at Turfway Park in race 3. Michael Stidham trains and Fernando De La Cruz is the jockey.
URL:https://www.daretodreamstable.com/race/rising-heat-turfway-park-030223-race3/
LOCATION:Turfway Park\, 7500 Turfway Road\, Florence\, KY\, 41042\, United States
END:VEVENT
BEGIN:VEVENT
DTSTART;TZID=America/Chicago:20230309T161000
DTEND;TZID=America/Chicago:20230309T164500
DTSTAMP:20260425T074138
CREATED:20230302T200401Z
LAST-MODIFIED:20230302T200401Z
UID:19549-1678378200-1678380300@www.daretodreamstable.com
SUMMARY:MUCHMORETHANREADY – Fair Grounds Race Course race #7
DESCRIPTION:Dare To Dream Stable’s MUCHMORETHANREADY runs at Fair Grounds Race Course in race 7. Michael Stidham trains and Colby J. Hernandez is the jockey.
URL:https://www.daretodreamstable.com/race/muchmorethanready-fair-grounds-030923-race7/
LOCATION:Fair Grounds Race Course\, 1751 Gentilly Blvd\, New Orleans\, LA\, 70119\, United States
END:VEVENT
BEGIN:VEVENT
DTSTART;TZID=America/New_York:20230318T192000
DTEND;TZID=America/New_York:20230318T195500
DTSTAMP:20260425T074138
CREATED:20230315T175639Z
LAST-MODIFIED:20230315T175821Z
UID:19568-1679167200-1679169300@www.daretodreamstable.com
SUMMARY:RISING HEAT – Turfway Park race #4
DESCRIPTION:Dare To Dream Stable’s RISING HEAT runs at Turfway Park in race 4. Michael Stidham trains and Declan Carroll is the jockey.
URL:https://www.daretodreamstable.com/race/rising-heat-turfway-park-031823-race4/
LOCATION:Turfway Park\, 7500 Turfway Road\, Florence\, KY\, 41042\, United States
END:VEVENT
END:VCALENDAR