BEGIN:VCALENDAR
VERSION:2.0
PRODID:-//Dare to Dream Stable - ECPv6.15.20//NONSGML v1.0//EN
CALSCALE:GREGORIAN
METHOD:PUBLISH
X-ORIGINAL-URL:https://www.daretodreamstable.com
X-WR-CALDESC:Events for Dare to Dream Stable
REFRESH-INTERVAL;VALUE=DURATION:PT1H
X-Robots-Tag:noindex
X-PUBLISHED-TTL:PT1H
BEGIN:VTIMEZONE
TZID:America/New_York
BEGIN:DAYLIGHT
TZOFFSETFROM:-0500
TZOFFSETTO:-0400
TZNAME:EDT
DTSTART:20180311T070000
END:DAYLIGHT
BEGIN:STANDARD
TZOFFSETFROM:-0400
TZOFFSETTO:-0500
TZNAME:EST
DTSTART:20181104T060000
END:STANDARD
BEGIN:DAYLIGHT
TZOFFSETFROM:-0500
TZOFFSETTO:-0400
TZNAME:EDT
DTSTART:20190310T070000
END:DAYLIGHT
BEGIN:STANDARD
TZOFFSETFROM:-0400
TZOFFSETTO:-0500
TZNAME:EST
DTSTART:20191103T060000
END:STANDARD
BEGIN:DAYLIGHT
TZOFFSETFROM:-0500
TZOFFSETTO:-0400
TZNAME:EDT
DTSTART:20200308T070000
END:DAYLIGHT
BEGIN:STANDARD
TZOFFSETFROM:-0400
TZOFFSETTO:-0500
TZNAME:EST
DTSTART:20201101T060000
END:STANDARD
END:VTIMEZONE
BEGIN:VEVENT
DTSTART;TZID=America/New_York:20191005T124500
DTEND;TZID=America/New_York:20191005T132000
DTSTAMP:20260421T011221
CREATED:20191002T200005Z
LAST-MODIFIED:20191002T200005Z
UID:15355-1570279500-1570281600@www.daretodreamstable.com
SUMMARY:HOLD MY CALL – Belmont Park race #2
DESCRIPTION:Dare To Dream Stable’s HOLD MY CALL runs at Belmont Park in race 2. Robert Falcone\, Jr. trains and Luis Saez is the jockey.
URL:https://www.daretodreamstable.com/race/hold-my-call-belmont-park-101519-race2/
LOCATION:Belmont Park\, 2150 Hempstead Turnpike\, Elmont\, NY\, 11003\, United States
END:VEVENT
BEGIN:VEVENT
DTSTART;TZID=America/New_York:20191006T160000
DTEND;TZID=America/New_York:20191006T164000
DTSTAMP:20260421T011221
CREATED:20191003T202338Z
LAST-MODIFIED:20191003T202338Z
UID:15364-1570377600-1570380000@www.daretodreamstable.com
SUMMARY:EMBOLDEN – Belmont Park race #7 (The Futurity Stakes - Grade 3 $150\,000)
DESCRIPTION:Dare To Dream Stable’s EMBOLDEN runs at Belmont Park in race 7\, The Futurity Stakes ($150\,000 Grade 3). Michael Stidham trains and Joel Rosario is the jockey.
URL:https://www.daretodreamstable.com/race/embolden-belmont-park-futurity-stakes-100619-race7/
LOCATION:Belmont Park\, 2150 Hempstead Turnpike\, Elmont\, NY\, 11003\, United States
END:VEVENT
END:VCALENDAR