BEGIN:VCALENDAR
VERSION:2.0
PRODID:-//Dare to Dream Stable - ECPv6.15.20//NONSGML v1.0//EN
CALSCALE:GREGORIAN
METHOD:PUBLISH
X-WR-CALNAME:Dare to Dream Stable
X-ORIGINAL-URL:https://www.daretodreamstable.com
X-WR-CALDESC:Events for Dare to Dream Stable
REFRESH-INTERVAL;VALUE=DURATION:PT1H
X-Robots-Tag:noindex
X-PUBLISHED-TTL:PT1H
BEGIN:VTIMEZONE
TZID:America/New_York
BEGIN:DAYLIGHT
TZOFFSETFROM:-0500
TZOFFSETTO:-0400
TZNAME:EDT
DTSTART:20200308T070000
END:DAYLIGHT
BEGIN:STANDARD
TZOFFSETFROM:-0400
TZOFFSETTO:-0500
TZNAME:EST
DTSTART:20201101T060000
END:STANDARD
BEGIN:DAYLIGHT
TZOFFSETFROM:-0500
TZOFFSETTO:-0400
TZNAME:EDT
DTSTART:20210314T070000
END:DAYLIGHT
BEGIN:STANDARD
TZOFFSETFROM:-0400
TZOFFSETTO:-0500
TZNAME:EST
DTSTART:20211107T060000
END:STANDARD
BEGIN:DAYLIGHT
TZOFFSETFROM:-0500
TZOFFSETTO:-0400
TZNAME:EDT
DTSTART:20220313T070000
END:DAYLIGHT
BEGIN:STANDARD
TZOFFSETFROM:-0400
TZOFFSETTO:-0500
TZNAME:EST
DTSTART:20221106T060000
END:STANDARD
END:VTIMEZONE
BEGIN:VEVENT
DTSTART;TZID=America/New_York:20211006T151000
DTEND;TZID=America/New_York:20211006T154500
DTSTAMP:20260424T001501
CREATED:20210930T204230Z
LAST-MODIFIED:20210930T204242Z
UID:17726-1633533000-1633535100@www.daretodreamstable.com
SUMMARY:SOLAR TAP – Delaware Park race #5
DESCRIPTION:Dare To Dream Stable’s SOLAR TAP runs at Delaware Park in race 5. Michael Stidham trains and Jaimie Rodriguez is the jockey.
URL:https://www.daretodreamstable.com/race/solar-tap-delaware-park-093021-race5/
LOCATION:Delaware Park\, 777 Delaware Park Blvd.\, Wilmington\, DE\, 19804\, United States
END:VEVENT
BEGIN:VEVENT
DTSTART;TZID=America/New_York:20211015T151000
DTEND;TZID=America/New_York:20211015T154000
DTSTAMP:20260424T001501
CREATED:20211011T110849Z
LAST-MODIFIED:20211011T110849Z
UID:17798-1634310600-1634312400@www.daretodreamstable.com
SUMMARY:STARBURST – Laurel Park race #6
DESCRIPTION:Dare To Dream Stable’s STARBURST runs at Laurel in race 6. Michael Stidham trains and Charlie Marquez is the jockey.
URL:https://www.daretodreamstable.com/race/starburst-laurel-park-101521-race6/
LOCATION:Laurel Park\, Laurel\, MD\, United States
END:VEVENT
BEGIN:VEVENT
DTSTART;TZID=America/New_York:20211027T160500
DTEND;TZID=America/New_York:20211027T164500
DTSTAMP:20260424T001501
CREATED:20211021T204645Z
LAST-MODIFIED:20211021T204645Z
UID:17837-1635350700-1635353100@www.daretodreamstable.com
SUMMARY:STARBURST – Delaware Park race #7
DESCRIPTION:Dare To Dream Stable’s STARBURST runs at Delaware Park in race 7. Michael Stidham trains and Charlie Marquez is the jockey.
URL:https://www.daretodreamstable.com/race/starburst-delaware-park-102721-race7/
LOCATION:Delaware Park\, 777 Delaware Park Blvd.\, Wilmington\, DE\, 19804\, United States
END:VEVENT
BEGIN:VEVENT
DTSTART;TZID=America/New_York:20211031T141500
DTEND;TZID=America/New_York:20211031T145000
DTSTAMP:20260424T001501
CREATED:20211029T125325Z
LAST-MODIFIED:20211029T125325Z
UID:17852-1635689700-1635691800@www.daretodreamstable.com
SUMMARY:SOLAR TAP – Laurel Park race #5
DESCRIPTION:Dare To Dream Stable’s SOLAR TAP runs at Laurel Park in race 5. Michael Stidham trains and J. D. Acosta is the jockey.
URL:https://www.daretodreamstable.com/race/solar-tap-laurel-park-103121-race5/
LOCATION:Laurel Park\, Laurel\, MD\, United States
END:VEVENT
END:VCALENDAR