BEGIN:VCALENDAR
VERSION:2.0
PRODID:-//Dare to Dream Stable - ECPv6.15.20//NONSGML v1.0//EN
CALSCALE:GREGORIAN
METHOD:PUBLISH
X-ORIGINAL-URL:https://www.daretodreamstable.com
X-WR-CALDESC:Events for Dare to Dream Stable
REFRESH-INTERVAL;VALUE=DURATION:PT1H
X-Robots-Tag:noindex
X-PUBLISHED-TTL:PT1H
BEGIN:VTIMEZONE
TZID:America/New_York
BEGIN:DAYLIGHT
TZOFFSETFROM:-0500
TZOFFSETTO:-0400
TZNAME:EDT
DTSTART:20200308T070000
END:DAYLIGHT
BEGIN:STANDARD
TZOFFSETFROM:-0400
TZOFFSETTO:-0500
TZNAME:EST
DTSTART:20201101T060000
END:STANDARD
BEGIN:DAYLIGHT
TZOFFSETFROM:-0500
TZOFFSETTO:-0400
TZNAME:EDT
DTSTART:20210314T070000
END:DAYLIGHT
BEGIN:STANDARD
TZOFFSETFROM:-0400
TZOFFSETTO:-0500
TZNAME:EST
DTSTART:20211107T060000
END:STANDARD
BEGIN:DAYLIGHT
TZOFFSETFROM:-0500
TZOFFSETTO:-0400
TZNAME:EDT
DTSTART:20220313T070000
END:DAYLIGHT
BEGIN:STANDARD
TZOFFSETFROM:-0400
TZOFFSETTO:-0500
TZNAME:EST
DTSTART:20221106T060000
END:STANDARD
END:VTIMEZONE
BEGIN:VEVENT
DTSTART;TZID=America/New_York:20210910T161300
DTEND;TZID=America/New_York:20210910T165000
DTSTAMP:20260420T110502
CREATED:20210906T232707Z
LAST-MODIFIED:20210906T232707Z
UID:17534-1631290380-1631292600@www.daretodreamstable.com
SUMMARY:STARBURST – Laurel Park race #8
DESCRIPTION:Dare To Dream Stable’s STARBURST runs at Laurel in race 8. Michael Stidham trains and Charlie Marquez is the jockey.
URL:https://www.daretodreamstable.com/race/starburst-laurel-park-091021-race8/
LOCATION:Laurel Park\, Laurel\, MD\, United States
END:VEVENT
BEGIN:VEVENT
DTSTART;TZID=America/New_York:20210915T141000
DTEND;TZID=America/New_York:20210915T144000
DTSTAMP:20260420T110502
CREATED:20210909T205605Z
LAST-MODIFIED:20210909T205653Z
UID:17544-1631715000-1631716800@www.daretodreamstable.com
SUMMARY:SOLAR TAP – Delaware Park race #3
DESCRIPTION:Dare To Dream Stable’s SOLAR TAP runs at Delaware Park in race 3. Michael Stidham trains and Jaimie Rodriguez is the jockey.
URL:https://www.daretodreamstable.com/race/solar-tap-delaware-park-091521-race3/
LOCATION:Delaware Park\, 777 Delaware Park Blvd.\, Wilmington\, DE\, 19804\, United States
END:VEVENT
BEGIN:VEVENT
DTSTART;TZID=America/New_York:20210920T154000
DTEND;TZID=America/New_York:20210920T162000
DTSTAMP:20260420T110502
CREATED:20210916T004124Z
LAST-MODIFIED:20210916T004222Z
UID:17568-1632152400-1632154800@www.daretodreamstable.com
SUMMARY:STARBURST – Delaware Park race #6
DESCRIPTION:Dare To Dream Stable’s STARBURST runs at Delaware Park in race 6. Michael Stidham trains and Charlie Marquez is the jockey.
URL:https://www.daretodreamstable.com/race/starburst-delaware-park-092021-race6/
LOCATION:Delaware Park\, 777 Delaware Park Blvd.\, Wilmington\, DE\, 19804\, United States
END:VEVENT
END:VCALENDAR