BEGIN:VCALENDAR
VERSION:2.0
PRODID:-//Dare to Dream Stable - ECPv6.15.20//NONSGML v1.0//EN
CALSCALE:GREGORIAN
METHOD:PUBLISH
X-WR-CALNAME:Dare to Dream Stable
X-ORIGINAL-URL:https://www.daretodreamstable.com
X-WR-CALDESC:Events for Dare to Dream Stable
REFRESH-INTERVAL;VALUE=DURATION:PT1H
X-Robots-Tag:noindex
X-PUBLISHED-TTL:PT1H
BEGIN:VTIMEZONE
TZID:America/New_York
BEGIN:DAYLIGHT
TZOFFSETFROM:-0500
TZOFFSETTO:-0400
TZNAME:EDT
DTSTART:20200308T070000
END:DAYLIGHT
BEGIN:STANDARD
TZOFFSETFROM:-0400
TZOFFSETTO:-0500
TZNAME:EST
DTSTART:20201101T060000
END:STANDARD
BEGIN:DAYLIGHT
TZOFFSETFROM:-0500
TZOFFSETTO:-0400
TZNAME:EDT
DTSTART:20210314T070000
END:DAYLIGHT
BEGIN:STANDARD
TZOFFSETFROM:-0400
TZOFFSETTO:-0500
TZNAME:EST
DTSTART:20211107T060000
END:STANDARD
BEGIN:DAYLIGHT
TZOFFSETFROM:-0500
TZOFFSETTO:-0400
TZNAME:EDT
DTSTART:20220313T070000
END:DAYLIGHT
BEGIN:STANDARD
TZOFFSETFROM:-0400
TZOFFSETTO:-0500
TZNAME:EST
DTSTART:20221106T060000
END:STANDARD
END:VTIMEZONE
BEGIN:VTIMEZONE
TZID:America/Chicago
BEGIN:DAYLIGHT
TZOFFSETFROM:-0600
TZOFFSETTO:-0500
TZNAME:CDT
DTSTART:20200308T080000
END:DAYLIGHT
BEGIN:STANDARD
TZOFFSETFROM:-0500
TZOFFSETTO:-0600
TZNAME:CST
DTSTART:20201101T070000
END:STANDARD
BEGIN:DAYLIGHT
TZOFFSETFROM:-0600
TZOFFSETTO:-0500
TZNAME:CDT
DTSTART:20210314T080000
END:DAYLIGHT
BEGIN:STANDARD
TZOFFSETFROM:-0500
TZOFFSETTO:-0600
TZNAME:CST
DTSTART:20211107T070000
END:STANDARD
BEGIN:DAYLIGHT
TZOFFSETFROM:-0600
TZOFFSETTO:-0500
TZNAME:CDT
DTSTART:20220313T080000
END:DAYLIGHT
BEGIN:STANDARD
TZOFFSETFROM:-0500
TZOFFSETTO:-0600
TZNAME:CST
DTSTART:20221106T070000
END:STANDARD
END:VTIMEZONE
BEGIN:VEVENT
DTSTART;TZID=America/New_York:20210626T161000
DTEND;TZID=America/New_York:20210626T164000
DTSTAMP:20260423T064300
CREATED:20210622T112621Z
LAST-MODIFIED:20210622T112621Z
UID:17346-1624723800-1624725600@www.daretodreamstable.com
SUMMARY:ARREST WARRANT – Delaware Park race #7
DESCRIPTION:Dare To Dream Stable’s ARREST WARRANT runs at Delaware Park in race 7. Michael Stidham trains and Mychel Sanchez is the jockey.
URL:https://www.daretodreamstable.com/race/arrest-warrant-delaware-park-062621-race7/
LOCATION:Delaware Park\, 777 Delaware Park Blvd.\, Wilmington\, DE\, 19804\, United States
END:VEVENT
BEGIN:VEVENT
DTSTART;TZID=America/Chicago:20210626T163000
DTEND;TZID=America/Chicago:20210626T170500
DTSTAMP:20260423T064300
CREATED:20210623T192509Z
LAST-MODIFIED:20210623T192509Z
UID:17349-1624725000-1624727100@www.daretodreamstable.com
SUMMARY:AMERICAN SANCTUARY – Arlington Park race #5
DESCRIPTION:Dare To Dream Stable’s AMERICAN SANCTUARY runs at Arlington Park in race 5. Christopher Davis trains and Declan Carroll is the jockey.
URL:https://www.daretodreamstable.com/race/american-sanctuary-arlington-park-062621-race5/
LOCATION:Arlington Park\, 2200 West Euclid Avenue\, Arlington Heights\, IL\, 60006
END:VEVENT
END:VCALENDAR