BEGIN:VCALENDAR
VERSION:2.0
PRODID:-//Dare to Dream Stable - ECPv6.15.20//NONSGML v1.0//EN
CALSCALE:GREGORIAN
METHOD:PUBLISH
X-ORIGINAL-URL:https://www.daretodreamstable.com
X-WR-CALDESC:Events for Dare to Dream Stable
REFRESH-INTERVAL;VALUE=DURATION:PT1H
X-Robots-Tag:noindex
X-PUBLISHED-TTL:PT1H
BEGIN:VTIMEZONE
TZID:America/Chicago
BEGIN:DAYLIGHT
TZOFFSETFROM:-0600
TZOFFSETTO:-0500
TZNAME:CDT
DTSTART:20190310T080000
END:DAYLIGHT
BEGIN:STANDARD
TZOFFSETFROM:-0500
TZOFFSETTO:-0600
TZNAME:CST
DTSTART:20191103T070000
END:STANDARD
BEGIN:DAYLIGHT
TZOFFSETFROM:-0600
TZOFFSETTO:-0500
TZNAME:CDT
DTSTART:20200308T080000
END:DAYLIGHT
BEGIN:STANDARD
TZOFFSETFROM:-0500
TZOFFSETTO:-0600
TZNAME:CST
DTSTART:20201101T070000
END:STANDARD
BEGIN:DAYLIGHT
TZOFFSETFROM:-0600
TZOFFSETTO:-0500
TZNAME:CDT
DTSTART:20210314T080000
END:DAYLIGHT
BEGIN:STANDARD
TZOFFSETFROM:-0500
TZOFFSETTO:-0600
TZNAME:CST
DTSTART:20211107T070000
END:STANDARD
END:VTIMEZONE
BEGIN:VTIMEZONE
TZID:America/New_York
BEGIN:DAYLIGHT
TZOFFSETFROM:-0500
TZOFFSETTO:-0400
TZNAME:EDT
DTSTART:20190310T070000
END:DAYLIGHT
BEGIN:STANDARD
TZOFFSETFROM:-0400
TZOFFSETTO:-0500
TZNAME:EST
DTSTART:20191103T060000
END:STANDARD
BEGIN:DAYLIGHT
TZOFFSETFROM:-0500
TZOFFSETTO:-0400
TZNAME:EDT
DTSTART:20200308T070000
END:DAYLIGHT
BEGIN:STANDARD
TZOFFSETFROM:-0400
TZOFFSETTO:-0500
TZNAME:EST
DTSTART:20201101T060000
END:STANDARD
BEGIN:DAYLIGHT
TZOFFSETFROM:-0500
TZOFFSETTO:-0400
TZNAME:EDT
DTSTART:20210314T070000
END:DAYLIGHT
BEGIN:STANDARD
TZOFFSETFROM:-0400
TZOFFSETTO:-0500
TZNAME:EST
DTSTART:20211107T060000
END:STANDARD
END:VTIMEZONE
BEGIN:VEVENT
DTSTART;TZID=America/Chicago:20201004T160000
DTEND;TZID=America/Chicago:20201004T163000
DTSTAMP:20260419T164207
CREATED:20201001T191955Z
LAST-MODIFIED:20201001T191955Z
UID:16464-1601827200-1601829000@www.daretodreamstable.com
SUMMARY:PHARAOH'S KITTEN – Hawthorne Race Course race #3
DESCRIPTION:Dare To Dream Stable’s PHARAOH’S KITTEN runs at Hawthorne Race Course in race 3. Christopher Davis trains and Quincy Hamilton is the jockey.
URL:https://www.daretodreamstable.com/race/pharaohs-kitten-hawthorne-race-course-100420-race3/
LOCATION:Hawthorne Race Course\, 3501 S. Laramie\, Stickney/Cicero\, IL\, 60804\, United States
END:VEVENT
BEGIN:VEVENT
DTSTART;TZID=America/New_York:20201007T130000
DTEND;TZID=America/New_York:20201007T133000
DTSTAMP:20260419T164207
CREATED:20201007T171109Z
LAST-MODIFIED:20201007T171109Z
UID:16483-1602075600-1602077400@www.daretodreamstable.com
SUMMARY:BLONDE ON TAP – Keeneland race #1
DESCRIPTION:Dare To Dream Stable’s BLONDE ON TAP runs at Keeneland in race 1. Christopher Davis trains and Mitchell Murrill is the jockey.
URL:https://www.daretodreamstable.com/race/blonde-on-tap-keeneland-101020-race1/
LOCATION:Keeneland\, 4201 Versailles Road\, Lexington\, KY\, 40510\, United States
END:VEVENT
BEGIN:VEVENT
DTSTART;TZID=America/New_York:20201019T173000
DTEND;TZID=America/New_York:20201019T180500
DTSTAMP:20260419T164207
CREATED:20201014T202756Z
LAST-MODIFIED:20201014T203249Z
UID:16497-1603128600-1603130700@www.daretodreamstable.com
SUMMARY:STAR OF KODIAK – Indiana Grand race #8
DESCRIPTION:Dare To Dream Stable’s STAR OF KODIAK runs at Indiana Grand in race 8. Christopher Davis trains and Fernando De La Cruz is the jockey.
URL:https://www.daretodreamstable.com/race/star-of-kodiak-indiana-grand-race-course-101920-race8/
LOCATION:Horseshoe Indianapolis\, 4300 N. Michigan Road\, Shelbyville\, IN\, 46176\, United States
END:VEVENT
BEGIN:VEVENT
DTSTART;TZID=America/New_York:20201020T162500
DTEND;TZID=America/New_York:20201020T170000
DTSTAMP:20260419T164207
CREATED:20201014T203206Z
LAST-MODIFIED:20201014T203325Z
UID:16503-1603211100-1603213200@www.daretodreamstable.com
SUMMARY:QUICK TEMPO – PARX Racing race #9
DESCRIPTION:Dare To Dream Stable’s QUICK TEMPO runs at PARX Racing in race 9. Christopher Davis trains and Mychel Sanchez is the jockey.
URL:https://www.daretodreamstable.com/race/quick-tempo-parx-102020-race9/
LOCATION:PARX Racing\, 3001 Street Road\, Bensalem\, PA\, 19020\, United States
END:VEVENT
END:VCALENDAR