BEGIN:VCALENDAR
VERSION:2.0
PRODID:-//Dare to Dream Stable - ECPv6.15.20//NONSGML v1.0//EN
CALSCALE:GREGORIAN
METHOD:PUBLISH
X-ORIGINAL-URL:https://www.daretodreamstable.com
X-WR-CALDESC:Events for Dare to Dream Stable
REFRESH-INTERVAL;VALUE=DURATION:PT1H
X-Robots-Tag:noindex
X-PUBLISHED-TTL:PT1H
BEGIN:VTIMEZONE
TZID:America/Chicago
BEGIN:DAYLIGHT
TZOFFSETFROM:-0600
TZOFFSETTO:-0500
TZNAME:CDT
DTSTART:20230312T080000
END:DAYLIGHT
BEGIN:STANDARD
TZOFFSETFROM:-0500
TZOFFSETTO:-0600
TZNAME:CST
DTSTART:20231105T070000
END:STANDARD
BEGIN:DAYLIGHT
TZOFFSETFROM:-0600
TZOFFSETTO:-0500
TZNAME:CDT
DTSTART:20240310T080000
END:DAYLIGHT
BEGIN:STANDARD
TZOFFSETFROM:-0500
TZOFFSETTO:-0600
TZNAME:CST
DTSTART:20241103T070000
END:STANDARD
BEGIN:DAYLIGHT
TZOFFSETFROM:-0600
TZOFFSETTO:-0500
TZNAME:CDT
DTSTART:20250309T080000
END:DAYLIGHT
BEGIN:STANDARD
TZOFFSETFROM:-0500
TZOFFSETTO:-0600
TZNAME:CST
DTSTART:20251102T070000
END:STANDARD
END:VTIMEZONE
BEGIN:VEVENT
DTSTART;TZID=America/Chicago:20240203T154000
DTEND;TZID=America/Chicago:20240203T162000
DTSTAMP:20260420T003151
CREATED:20240129T195953Z
LAST-MODIFIED:20240129T195953Z
UID:20352-1706974800-1706977200@www.daretodreamstable.com
SUMMARY:TRUE JEDI – Fair Grounds Race Course race #7
DESCRIPTION:Dare To Dream Stable’s TRUE JEDI runs at Fair Grounds Race Course in race 7. Chris Davis trains and James Graham is the jockey.
URL:https://www.daretodreamstable.com/race/true-jedi-fair-grounds-race-course-020324-race7/
LOCATION:Fair Grounds Race Course\, 1751 Gentilly Blvd\, New Orleans\, LA\, 70119\, United States
END:VEVENT
END:VCALENDAR