BEGIN:VCALENDAR
VERSION:2.0
PRODID:-//Dare to Dream Stable - ECPv6.15.20//NONSGML v1.0//EN
CALSCALE:GREGORIAN
METHOD:PUBLISH
X-ORIGINAL-URL:https://www.daretodreamstable.com
X-WR-CALDESC:Events for Dare to Dream Stable
REFRESH-INTERVAL;VALUE=DURATION:PT1H
X-Robots-Tag:noindex
X-PUBLISHED-TTL:PT1H
BEGIN:VTIMEZONE
TZID:America/New_York
BEGIN:DAYLIGHT
TZOFFSETFROM:-0500
TZOFFSETTO:-0400
TZNAME:EDT
DTSTART:20200308T070000
END:DAYLIGHT
BEGIN:STANDARD
TZOFFSETFROM:-0400
TZOFFSETTO:-0500
TZNAME:EST
DTSTART:20201101T060000
END:STANDARD
BEGIN:DAYLIGHT
TZOFFSETFROM:-0500
TZOFFSETTO:-0400
TZNAME:EDT
DTSTART:20210314T070000
END:DAYLIGHT
BEGIN:STANDARD
TZOFFSETFROM:-0400
TZOFFSETTO:-0500
TZNAME:EST
DTSTART:20211107T060000
END:STANDARD
BEGIN:DAYLIGHT
TZOFFSETFROM:-0500
TZOFFSETTO:-0400
TZNAME:EDT
DTSTART:20220313T070000
END:DAYLIGHT
BEGIN:STANDARD
TZOFFSETFROM:-0400
TZOFFSETTO:-0500
TZNAME:EST
DTSTART:20221106T060000
END:STANDARD
END:VTIMEZONE
BEGIN:VTIMEZONE
TZID:America/Chicago
BEGIN:DAYLIGHT
TZOFFSETFROM:-0600
TZOFFSETTO:-0500
TZNAME:CDT
DTSTART:20200308T080000
END:DAYLIGHT
BEGIN:STANDARD
TZOFFSETFROM:-0500
TZOFFSETTO:-0600
TZNAME:CST
DTSTART:20201101T070000
END:STANDARD
BEGIN:DAYLIGHT
TZOFFSETFROM:-0600
TZOFFSETTO:-0500
TZNAME:CDT
DTSTART:20210314T080000
END:DAYLIGHT
BEGIN:STANDARD
TZOFFSETFROM:-0500
TZOFFSETTO:-0600
TZNAME:CST
DTSTART:20211107T070000
END:STANDARD
BEGIN:DAYLIGHT
TZOFFSETFROM:-0600
TZOFFSETTO:-0500
TZNAME:CDT
DTSTART:20220313T080000
END:DAYLIGHT
BEGIN:STANDARD
TZOFFSETFROM:-0500
TZOFFSETTO:-0600
TZNAME:CST
DTSTART:20221106T070000
END:STANDARD
END:VTIMEZONE
BEGIN:VEVENT
DTSTART;TZID=America/New_York:20210814T152000
DTEND;TZID=America/New_York:20210814T155500
DTSTAMP:20260419T095748
CREATED:20210811T204415Z
LAST-MODIFIED:20210811T204415Z
UID:17449-1628954400-1628956500@www.daretodreamstable.com
SUMMARY:STARBURST – Pimlico race #6
DESCRIPTION:Dare To Dream Stable’s STARBURST runs at Pimlico in race 6. Michael Stidham trains and Charlie Marquez is the jockey.
URL:https://www.daretodreamstable.com/race/starburst-pimlico-081421-race6/
LOCATION:Pimlico\, 5201 Park Heights Avenue\, Baltimore\, MD\, 21215\, United States
END:VEVENT
BEGIN:VEVENT
DTSTART;TZID=America/Chicago:20210814T205500
DTEND;TZID=America/Chicago:20210814T212500
DTSTAMP:20260419T095748
CREATED:20210808T115225Z
LAST-MODIFIED:20210808T115659Z
UID:17442-1628974500-1628976300@www.daretodreamstable.com
SUMMARY:AMERICAN SANCTUARY – Prairie Meadows race #8 (Prairie Gold Juvenile Stakes - $100\,000)
DESCRIPTION:Dare To Dream Stable’s AMERICAN SANCTUARY runs at Prairie Meadows in race 8 (Prairie Gold Juvenile Stakes – $100\,000). Christopher Davis trains and Miguel Mena is the jockey.
URL:https://www.daretodreamstable.com/race/american-sanctuary-prairie-meadows-race-8-prairie-gold-juvenile-stakes-100000/
LOCATION:Prairie Meadows\, 1 Prairie Meadows Drive\, Altoona\, IA\, 50009\, United States
END:VEVENT
END:VCALENDAR