BEGIN:VCALENDAR
VERSION:2.0
PRODID:-//Dare to Dream Stable - ECPv6.15.20//NONSGML v1.0//EN
CALSCALE:GREGORIAN
METHOD:PUBLISH
X-WR-CALNAME:Dare to Dream Stable
X-ORIGINAL-URL:https://www.daretodreamstable.com
X-WR-CALDESC:Events for Dare to Dream Stable
REFRESH-INTERVAL;VALUE=DURATION:PT1H
X-Robots-Tag:noindex
X-PUBLISHED-TTL:PT1H
BEGIN:VTIMEZONE
TZID:America/New_York
BEGIN:DAYLIGHT
TZOFFSETFROM:-0500
TZOFFSETTO:-0400
TZNAME:EDT
DTSTART:20200308T070000
END:DAYLIGHT
BEGIN:STANDARD
TZOFFSETFROM:-0400
TZOFFSETTO:-0500
TZNAME:EST
DTSTART:20201101T060000
END:STANDARD
BEGIN:DAYLIGHT
TZOFFSETFROM:-0500
TZOFFSETTO:-0400
TZNAME:EDT
DTSTART:20210314T070000
END:DAYLIGHT
BEGIN:STANDARD
TZOFFSETFROM:-0400
TZOFFSETTO:-0500
TZNAME:EST
DTSTART:20211107T060000
END:STANDARD
BEGIN:DAYLIGHT
TZOFFSETFROM:-0500
TZOFFSETTO:-0400
TZNAME:EDT
DTSTART:20220313T070000
END:DAYLIGHT
BEGIN:STANDARD
TZOFFSETFROM:-0400
TZOFFSETTO:-0500
TZNAME:EST
DTSTART:20221106T060000
END:STANDARD
END:VTIMEZONE
BEGIN:VEVENT
DTSTART;TZID=America/New_York:20210118T124000
DTEND;TZID=America/New_York:20210118T130500
DTSTAMP:20260421T014615
CREATED:20210113T174812Z
LAST-MODIFIED:20210113T174812Z
UID:16819-1610973600-1610975100@www.daretodreamstable.com
SUMMARY:DUKE OF DARKNESS – Mahoning Valley Race Course race #1
DESCRIPTION:Dare To Dream Stable’s DUKE OF DARKNESS runs at Mahoning Valley Race Course in race 1. Danny Werre trains and Sonny Leon is the jockey.
URL:https://www.daretodreamstable.com/race/duke-of-darkness-mahoning-valley-011821-race1/
LOCATION:Mahoning Valley Race Course\, 655 North Canfield Niles Road\, Youngstown\, OH\, 44515\, United States
END:VEVENT
END:VCALENDAR