BEGIN:VCALENDAR
VERSION:2.0
PRODID:-//Dare to Dream Stable - ECPv6.15.20//NONSGML v1.0//EN
CALSCALE:GREGORIAN
METHOD:PUBLISH
X-ORIGINAL-URL:https://www.daretodreamstable.com
X-WR-CALDESC:Events for Dare to Dream Stable
REFRESH-INTERVAL;VALUE=DURATION:PT1H
X-Robots-Tag:noindex
X-PUBLISHED-TTL:PT1H
BEGIN:VTIMEZONE
TZID:America/New_York
BEGIN:DAYLIGHT
TZOFFSETFROM:-0500
TZOFFSETTO:-0400
TZNAME:EDT
DTSTART:20200308T070000
END:DAYLIGHT
BEGIN:STANDARD
TZOFFSETFROM:-0400
TZOFFSETTO:-0500
TZNAME:EST
DTSTART:20201101T060000
END:STANDARD
BEGIN:DAYLIGHT
TZOFFSETFROM:-0500
TZOFFSETTO:-0400
TZNAME:EDT
DTSTART:20210314T070000
END:DAYLIGHT
BEGIN:STANDARD
TZOFFSETFROM:-0400
TZOFFSETTO:-0500
TZNAME:EST
DTSTART:20211107T060000
END:STANDARD
BEGIN:DAYLIGHT
TZOFFSETFROM:-0500
TZOFFSETTO:-0400
TZNAME:EDT
DTSTART:20220313T070000
END:DAYLIGHT
BEGIN:STANDARD
TZOFFSETFROM:-0400
TZOFFSETTO:-0500
TZNAME:EST
DTSTART:20221106T060000
END:STANDARD
END:VTIMEZONE
BEGIN:VTIMEZONE
TZID:America/Los_Angeles
BEGIN:DAYLIGHT
TZOFFSETFROM:-0800
TZOFFSETTO:-0700
TZNAME:PDT
DTSTART:20200308T100000
END:DAYLIGHT
BEGIN:STANDARD
TZOFFSETFROM:-0700
TZOFFSETTO:-0800
TZNAME:PST
DTSTART:20201101T090000
END:STANDARD
BEGIN:DAYLIGHT
TZOFFSETFROM:-0800
TZOFFSETTO:-0700
TZNAME:PDT
DTSTART:20210314T100000
END:DAYLIGHT
BEGIN:STANDARD
TZOFFSETFROM:-0700
TZOFFSETTO:-0800
TZNAME:PST
DTSTART:20211107T090000
END:STANDARD
BEGIN:DAYLIGHT
TZOFFSETFROM:-0800
TZOFFSETTO:-0700
TZNAME:PDT
DTSTART:20220313T100000
END:DAYLIGHT
BEGIN:STANDARD
TZOFFSETFROM:-0700
TZOFFSETTO:-0800
TZNAME:PST
DTSTART:20221106T090000
END:STANDARD
END:VTIMEZONE
BEGIN:VTIMEZONE
TZID:America/Chicago
BEGIN:DAYLIGHT
TZOFFSETFROM:-0600
TZOFFSETTO:-0500
TZNAME:CDT
DTSTART:20200308T080000
END:DAYLIGHT
BEGIN:STANDARD
TZOFFSETFROM:-0500
TZOFFSETTO:-0600
TZNAME:CST
DTSTART:20201101T070000
END:STANDARD
BEGIN:DAYLIGHT
TZOFFSETFROM:-0600
TZOFFSETTO:-0500
TZNAME:CDT
DTSTART:20210314T080000
END:DAYLIGHT
BEGIN:STANDARD
TZOFFSETFROM:-0500
TZOFFSETTO:-0600
TZNAME:CST
DTSTART:20211107T070000
END:STANDARD
BEGIN:DAYLIGHT
TZOFFSETFROM:-0600
TZOFFSETTO:-0500
TZNAME:CDT
DTSTART:20220313T080000
END:DAYLIGHT
BEGIN:STANDARD
TZOFFSETFROM:-0500
TZOFFSETTO:-0600
TZNAME:CST
DTSTART:20221106T070000
END:STANDARD
END:VTIMEZONE
BEGIN:VEVENT
DTSTART;TZID=America/New_York:20210905T160000
DTEND;TZID=America/New_York:20210905T164000
DTSTAMP:20260422T181650
CREATED:20210902T204439Z
LAST-MODIFIED:20210902T204439Z
UID:17519-1630857600-1630860000@www.daretodreamstable.com
SUMMARY:AMERICAN SANCTUARY – Monmouth Park race #9 (Sapling Stakes - $200\,000)
DESCRIPTION:Dare To Dream Stable’s AMERICAN SANCTUARY runs at Monmouth Park in race 9 (Sapling Stakes – $200\,000). Christopher Davis trains and Sophie Doyle is the jockey.
URL:https://www.daretodreamstable.com/race/american-sanctuary-monmouth-park-race-9-sapling-stakes-200000/
LOCATION:Monmouth Park\, 175 Oceanport Avenue\, Oceanport\, NJ\, 07757\, United States
END:VEVENT
BEGIN:VEVENT
DTSTART;TZID=America/Los_Angeles:20210905T200500
DTEND;TZID=America/Los_Angeles:20210905T204000
DTSTAMP:20260422T181650
CREATED:20210903T130513Z
LAST-MODIFIED:20210903T130513Z
UID:17525-1630872300-1630874400@www.daretodreamstable.com
SUMMARY:DESERT SWARM – Los Alamitos Race Course race #4
DESCRIPTION:Dare To Dream Stable’s DESERT SWARM runs at Los Alamitos Race Course in race 4. Brian Koriner trains and Wayne Barnett is the jockey.
URL:https://www.daretodreamstable.com/race/desert-swarm-los-alamitos-race-course-090521-race4/
LOCATION:Los Alamitos Race Course\, 4961 Katella Avenue\, Los Alamitos\, CA\, 90720\, United States
END:VEVENT
BEGIN:VEVENT
DTSTART;TZID=America/New_York:20210909T150000
DTEND;TZID=America/New_York:20210909T153500
DTSTAMP:20260422T181650
CREATED:20210906T231830Z
LAST-MODIFIED:20210906T231940Z
UID:17529-1631199600-1631201700@www.daretodreamstable.com
SUMMARY:DUKE OF DARKNESS – Belterra Park race #6
DESCRIPTION:Dare To Dream Stable’s DUKE OF DARKNESS runs at Belterra Park in race 6. Danny Werre trains and Gabriel Lagunas is the jockey.
URL:https://www.daretodreamstable.com/race/duke-of-darkness-belterra-park-090921-race6/
LOCATION:Belterra Park\, 6301 Kellogg Rd\, Cincinnati\, OH\, 45230\, United States
END:VEVENT
BEGIN:VEVENT
DTSTART;TZID=America/New_York:20210910T161300
DTEND;TZID=America/New_York:20210910T165000
DTSTAMP:20260422T181650
CREATED:20210906T232707Z
LAST-MODIFIED:20210906T232707Z
UID:17534-1631290380-1631292600@www.daretodreamstable.com
SUMMARY:STARBURST – Laurel Park race #8
DESCRIPTION:Dare To Dream Stable’s STARBURST runs at Laurel in race 8. Michael Stidham trains and Charlie Marquez is the jockey.
URL:https://www.daretodreamstable.com/race/starburst-laurel-park-091021-race8/
LOCATION:Laurel Park\, Laurel\, MD\, United States
END:VEVENT
BEGIN:VEVENT
DTSTART;TZID=America/New_York:20210911T141000
DTEND;TZID=America/New_York:20210911T144500
DTSTAMP:20260422T181650
CREATED:20210909T113440Z
LAST-MODIFIED:20210909T113440Z
UID:17540-1631369400-1631371500@www.daretodreamstable.com
SUMMARY:QUICK TEMPO – Monmouth Park race #5 (Rumson Stakes $100\,000)
DESCRIPTION:Dare To Dream Stable’s QUICK TEMPO runs at Monmouth Park in race 5\, the Rumson Stakes ($100\,000). Christopher Davis trains and Sophie Doyle is the jockey.
URL:https://www.daretodreamstable.com/race/quick-tempo-monmouth-park-race-5-rumson-stakes-100000/
LOCATION:Monmouth Park\, 175 Oceanport Avenue\, Oceanport\, NJ\, 07757\, United States
END:VEVENT
BEGIN:VEVENT
DTSTART;TZID=America/New_York:20210915T141000
DTEND;TZID=America/New_York:20210915T144000
DTSTAMP:20260422T181650
CREATED:20210909T205605Z
LAST-MODIFIED:20210909T205653Z
UID:17544-1631715000-1631716800@www.daretodreamstable.com
SUMMARY:SOLAR TAP – Delaware Park race #3
DESCRIPTION:Dare To Dream Stable’s SOLAR TAP runs at Delaware Park in race 3. Michael Stidham trains and Jaimie Rodriguez is the jockey.
URL:https://www.daretodreamstable.com/race/solar-tap-delaware-park-091521-race3/
LOCATION:Delaware Park\, 777 Delaware Park Blvd.\, Wilmington\, DE\, 19804\, United States
END:VEVENT
BEGIN:VEVENT
DTSTART;TZID=America/New_York:20210916T165000
DTEND;TZID=America/New_York:20210916T172000
DTSTAMP:20260422T181650
CREATED:20210914T003713Z
LAST-MODIFIED:20210914T003713Z
UID:17561-1631811000-1631812800@www.daretodreamstable.com
SUMMARY:BLONDE ON TAP – Churchill Downs race #1
DESCRIPTION:Dare To Dream Stable’s BLONDE ON TAP runs at Churchill Downs in race 1. Danny Werre trains and Miguel Mena is the jockey.
URL:https://www.daretodreamstable.com/race/blonde-on-tap-churchill-downs-race-1/
LOCATION:Churchill Downs\, 700 Central Avenue\, Louisville\, KY\, 40208\, United States
END:VEVENT
BEGIN:VEVENT
DTSTART;TZID=America/Chicago:20210917T180000
DTEND;TZID=America/Chicago:20210917T183500
DTSTAMP:20260422T181650
CREATED:20210912T211715Z
LAST-MODIFIED:20210912T211715Z
UID:17555-1631901600-1631903700@www.daretodreamstable.com
SUMMARY:SOVEREIGN OF SPEED – Arlington Park race #8
DESCRIPTION:Dare To Dream Stable’s SOVEREIGN OF SPEED runs at Arlington Park in race 8. Christopher Davis trains and Sophie Doyle is the jockey.
URL:https://www.daretodreamstable.com/race/sovereign-of-speed-arlington-park-091721-race8/
LOCATION:Arlington Park\, 2200 West Euclid Avenue\, Arlington Heights\, IL\, 60006
END:VEVENT
BEGIN:VEVENT
DTSTART;TZID=America/New_York:20210920T154000
DTEND;TZID=America/New_York:20210920T162000
DTSTAMP:20260422T181650
CREATED:20210916T004124Z
LAST-MODIFIED:20210916T004222Z
UID:17568-1632152400-1632154800@www.daretodreamstable.com
SUMMARY:STARBURST – Delaware Park race #6
DESCRIPTION:Dare To Dream Stable’s STARBURST runs at Delaware Park in race 6. Michael Stidham trains and Charlie Marquez is the jockey.
URL:https://www.daretodreamstable.com/race/starburst-delaware-park-092021-race6/
LOCATION:Delaware Park\, 777 Delaware Park Blvd.\, Wilmington\, DE\, 19804\, United States
END:VEVENT
BEGIN:VEVENT
DTSTART;TZID=America/Chicago:20210924T170000
DTEND;TZID=America/Chicago:20210924T173500
DTSTAMP:20260422T181650
CREATED:20210920T014337Z
LAST-MODIFIED:20210920T014410Z
UID:17575-1632502800-1632504900@www.daretodreamstable.com
SUMMARY:BASEBALL POLITICS – Arlington Park race #6
DESCRIPTION:Dare To Dream Stable’s BASEBALL POLITICS runs at Arlington Park in race 6. Christopher Davis trains and Sophie Doyle is the jockey.
URL:https://www.daretodreamstable.com/race/baseball-politics-arlington-park-092421-race6/
LOCATION:Arlington Park\, 2200 West Euclid Avenue\, Arlington Heights\, IL\, 60006
END:VEVENT
BEGIN:VEVENT
DTSTART;TZID=America/Los_Angeles:20210926T135500
DTEND;TZID=America/Los_Angeles:20210926T142500
DTSTAMP:20260422T181650
CREATED:20210924T113853Z
LAST-MODIFIED:20210924T113853Z
UID:17585-1632664500-1632666300@www.daretodreamstable.com
SUMMARY:DESERT SWARM – Los Alamitos Race Course race #3
DESCRIPTION:Dare To Dream Stable’s DESERT SWARM runs at Los Alamitos Race Course in race 3. Brian Koriner trains and Kyle Frey is the jockey.
URL:https://www.daretodreamstable.com/race/desert-swarm-los-alamitos-race-course-092621-race3/
LOCATION:Los Alamitos Race Course\, 4961 Katella Avenue\, Los Alamitos\, CA\, 90720\, United States
END:VEVENT
END:VCALENDAR