BEGIN:VCALENDAR
VERSION:2.0
PRODID:-//Dare to Dream Stable - ECPv6.15.20//NONSGML v1.0//EN
CALSCALE:GREGORIAN
METHOD:PUBLISH
X-WR-CALNAME:Dare to Dream Stable
X-ORIGINAL-URL:https://www.daretodreamstable.com
X-WR-CALDESC:Events for Dare to Dream Stable
REFRESH-INTERVAL;VALUE=DURATION:PT1H
X-Robots-Tag:noindex
X-PUBLISHED-TTL:PT1H
BEGIN:VTIMEZONE
TZID:America/Chicago
BEGIN:DAYLIGHT
TZOFFSETFROM:-0600
TZOFFSETTO:-0500
TZNAME:CDT
DTSTART:20200308T080000
END:DAYLIGHT
BEGIN:STANDARD
TZOFFSETFROM:-0500
TZOFFSETTO:-0600
TZNAME:CST
DTSTART:20201101T070000
END:STANDARD
BEGIN:DAYLIGHT
TZOFFSETFROM:-0600
TZOFFSETTO:-0500
TZNAME:CDT
DTSTART:20210314T080000
END:DAYLIGHT
BEGIN:STANDARD
TZOFFSETFROM:-0500
TZOFFSETTO:-0600
TZNAME:CST
DTSTART:20211107T070000
END:STANDARD
BEGIN:DAYLIGHT
TZOFFSETFROM:-0600
TZOFFSETTO:-0500
TZNAME:CDT
DTSTART:20220313T080000
END:DAYLIGHT
BEGIN:STANDARD
TZOFFSETFROM:-0500
TZOFFSETTO:-0600
TZNAME:CST
DTSTART:20221106T070000
END:STANDARD
END:VTIMEZONE
BEGIN:VTIMEZONE
TZID:America/New_York
BEGIN:DAYLIGHT
TZOFFSETFROM:-0500
TZOFFSETTO:-0400
TZNAME:EDT
DTSTART:20200308T070000
END:DAYLIGHT
BEGIN:STANDARD
TZOFFSETFROM:-0400
TZOFFSETTO:-0500
TZNAME:EST
DTSTART:20201101T060000
END:STANDARD
BEGIN:DAYLIGHT
TZOFFSETFROM:-0500
TZOFFSETTO:-0400
TZNAME:EDT
DTSTART:20210314T070000
END:DAYLIGHT
BEGIN:STANDARD
TZOFFSETFROM:-0400
TZOFFSETTO:-0500
TZNAME:EST
DTSTART:20211107T060000
END:STANDARD
BEGIN:DAYLIGHT
TZOFFSETFROM:-0500
TZOFFSETTO:-0400
TZNAME:EDT
DTSTART:20220313T070000
END:DAYLIGHT
BEGIN:STANDARD
TZOFFSETFROM:-0400
TZOFFSETTO:-0500
TZNAME:EST
DTSTART:20221106T060000
END:STANDARD
END:VTIMEZONE
BEGIN:VEVENT
DTSTART;TZID=America/Chicago:20210603T174500
DTEND;TZID=America/Chicago:20210603T181000
DTSTAMP:20260420T090952
CREATED:20210529T191351Z
LAST-MODIFIED:20210529T191351Z
UID:17305-1622742300-1622743800@www.daretodreamstable.com
SUMMARY:PRINCE OF MAYHEM – Arlington Park race #8
DESCRIPTION:Dare To Dream Stable’s PRINCE OF MAYHEM runs at Arlington Park in race 8. Christopher Davis trains and Declan Carroll is the jockey.
URL:https://www.daretodreamstable.com/race/prince-of-mayhem-arlington-park-060321-race8/
LOCATION:Arlington Park\, 2200 West Euclid Avenue\, Arlington Heights\, IL\, 60006
END:VEVENT
BEGIN:VEVENT
DTSTART;TZID=America/Chicago:20210604T152000
DTEND;TZID=America/Chicago:20210604T160000
DTSTAMP:20260420T090952
CREATED:20210530T210153Z
LAST-MODIFIED:20210530T210153Z
UID:17312-1622820000-1622822400@www.daretodreamstable.com
SUMMARY:STAR OF KODIAK – Arlington Park race #3
DESCRIPTION:Dare To Dream Stable’s STAR OF KODIAK runs at Arlington Park in race 3. Christopher Davis trains and Jose Lopez is the jockey.
URL:https://www.daretodreamstable.com/race/star-of-kodiak-arlington-park-060421-race3/
LOCATION:Arlington Park\, 2200 West Euclid Avenue\, Arlington Heights\, IL\, 60006
END:VEVENT
BEGIN:VEVENT
DTSTART;TZID=America/Chicago:20210612T161500
DTEND;TZID=America/Chicago:20210612T165000
DTSTAMP:20260420T090952
CREATED:20210610T151725Z
LAST-MODIFIED:20210610T151748Z
UID:17323-1623514500-1623516600@www.daretodreamstable.com
SUMMARY:MERLIN'S SONG – Arlington Park race #5
DESCRIPTION:Dare To Dream Stable’s MERLIN’S SONG runs at Arlington Park in race 5. Christopher Davis trains and Declan Carroll is the jockey.
URL:https://www.daretodreamstable.com/race/merlins-song-arlington-park-061221-race5/
LOCATION:Arlington Park\, 2200 West Euclid Avenue\, Arlington Heights\, IL\, 60006
END:VEVENT
BEGIN:VEVENT
DTSTART;TZID=America/Chicago:20210625T165000
DTEND;TZID=America/Chicago:20210625T173000
DTSTAMP:20260420T090952
CREATED:20210621T115754Z
LAST-MODIFIED:20210621T115754Z
UID:17336-1624639800-1624642200@www.daretodreamstable.com
SUMMARY:ONE STEP AHEAD – Arlington Park race #6
DESCRIPTION:Dare To Dream Stable’s ONE STEP AHEAD runs at Arlington Park in race 6. Christopher Davis trains and Declan Carroll is the jockey.
URL:https://www.daretodreamstable.com/race/one-step-ahead-arlington-park-062521-race6/
LOCATION:Arlington Park\, 2200 West Euclid Avenue\, Arlington Heights\, IL\, 60006
END:VEVENT
BEGIN:VEVENT
DTSTART;TZID=America/Chicago:20210625T165000
DTEND;TZID=America/Chicago:20210625T173000
DTSTAMP:20260420T090952
CREATED:20210621T120437Z
LAST-MODIFIED:20210621T120437Z
UID:17340-1624639800-1624642200@www.daretodreamstable.com
SUMMARY:SWOONATRA – Arlington Park race #6
DESCRIPTION:Dare To Dream Stable’s SWOONATRA runs at Arlington Park in race 6. Christopher Davis trains and Constantino Roman is the jockey.
URL:https://www.daretodreamstable.com/race/swoonatra-arlington-park-062521-race6/
LOCATION:Arlington Park\, 2200 West Euclid Avenue\, Arlington Heights\, IL\, 60006
END:VEVENT
BEGIN:VEVENT
DTSTART;TZID=America/New_York:20210626T161000
DTEND;TZID=America/New_York:20210626T164000
DTSTAMP:20260420T090952
CREATED:20210622T112621Z
LAST-MODIFIED:20210622T112621Z
UID:17346-1624723800-1624725600@www.daretodreamstable.com
SUMMARY:ARREST WARRANT – Delaware Park race #7
DESCRIPTION:Dare To Dream Stable’s ARREST WARRANT runs at Delaware Park in race 7. Michael Stidham trains and Mychel Sanchez is the jockey.
URL:https://www.daretodreamstable.com/race/arrest-warrant-delaware-park-062621-race7/
LOCATION:Delaware Park\, 777 Delaware Park Blvd.\, Wilmington\, DE\, 19804\, United States
END:VEVENT
BEGIN:VEVENT
DTSTART;TZID=America/Chicago:20210626T163000
DTEND;TZID=America/Chicago:20210626T170500
DTSTAMP:20260420T090952
CREATED:20210623T192509Z
LAST-MODIFIED:20210623T192509Z
UID:17349-1624725000-1624727100@www.daretodreamstable.com
SUMMARY:AMERICAN SANCTUARY – Arlington Park race #5
DESCRIPTION:Dare To Dream Stable’s AMERICAN SANCTUARY runs at Arlington Park in race 5. Christopher Davis trains and Declan Carroll is the jockey.
URL:https://www.daretodreamstable.com/race/american-sanctuary-arlington-park-062621-race5/
LOCATION:Arlington Park\, 2200 West Euclid Avenue\, Arlington Heights\, IL\, 60006
END:VEVENT
BEGIN:VEVENT
DTSTART;TZID=America/Chicago:20210627T185500
DTEND;TZID=America/Chicago:20210627T192500
DTSTAMP:20260420T090952
CREATED:20210621T114806Z
LAST-MODIFIED:20210621T114806Z
UID:17328-1624820100-1624821900@www.daretodreamstable.com
SUMMARY:PRINCE OF MAYHEM – Prairie Meadows race #8
DESCRIPTION:Dare To Dream Stable’s PRINCE OF MAYHEM runs at Prairie Meadows in race 8. Christopher Davis trains and Sophie Doyle is the jockey.
URL:https://www.daretodreamstable.com/race/prince-of-mayhem-prairie-meadows-062721-race8/
LOCATION:Prairie Meadows\, 1 Prairie Meadows Drive\, Altoona\, IA\, 50009\, United States
END:VEVENT
BEGIN:VEVENT
DTSTART;TZID=America/Chicago:20210627T194500
DTEND;TZID=America/Chicago:20210627T201500
DTSTAMP:20260420T090952
CREATED:20210621T115341Z
LAST-MODIFIED:20210621T115341Z
UID:17332-1624823100-1624824900@www.daretodreamstable.com
SUMMARY:SOVEREIGN OF SPEED – Prairie Meadows race #10
DESCRIPTION:Dare To Dream Stable’s SOVEREIGN OF SPEED runs at Prairie Meadows in race 10. Christopher Davis trains and Sophie Doyle is the jockey.
URL:https://www.daretodreamstable.com/race/sovereign-of-speed-prairie-meadows-062721-race10/
LOCATION:Prairie Meadows\, 1 Prairie Meadows Drive\, Altoona\, IA\, 50009\, United States
END:VEVENT
END:VCALENDAR