BEGIN:VCALENDAR
VERSION:2.0
PRODID:-//Dare to Dream Stable - ECPv6.15.20//NONSGML v1.0//EN
CALSCALE:GREGORIAN
METHOD:PUBLISH
X-WR-CALNAME:Dare to Dream Stable
X-ORIGINAL-URL:https://www.daretodreamstable.com
X-WR-CALDESC:Events for Dare to Dream Stable
REFRESH-INTERVAL;VALUE=DURATION:PT1H
X-Robots-Tag:noindex
X-PUBLISHED-TTL:PT1H
BEGIN:VTIMEZONE
TZID:America/Los_Angeles
BEGIN:DAYLIGHT
TZOFFSETFROM:-0800
TZOFFSETTO:-0700
TZNAME:PDT
DTSTART:20210314T100000
END:DAYLIGHT
BEGIN:STANDARD
TZOFFSETFROM:-0700
TZOFFSETTO:-0800
TZNAME:PST
DTSTART:20211107T090000
END:STANDARD
BEGIN:DAYLIGHT
TZOFFSETFROM:-0800
TZOFFSETTO:-0700
TZNAME:PDT
DTSTART:20220313T100000
END:DAYLIGHT
BEGIN:STANDARD
TZOFFSETFROM:-0700
TZOFFSETTO:-0800
TZNAME:PST
DTSTART:20221106T090000
END:STANDARD
BEGIN:DAYLIGHT
TZOFFSETFROM:-0800
TZOFFSETTO:-0700
TZNAME:PDT
DTSTART:20230312T100000
END:DAYLIGHT
BEGIN:STANDARD
TZOFFSETFROM:-0700
TZOFFSETTO:-0800
TZNAME:PST
DTSTART:20231105T090000
END:STANDARD
END:VTIMEZONE
BEGIN:VTIMEZONE
TZID:America/New_York
BEGIN:DAYLIGHT
TZOFFSETFROM:-0500
TZOFFSETTO:-0400
TZNAME:EDT
DTSTART:20210314T070000
END:DAYLIGHT
BEGIN:STANDARD
TZOFFSETFROM:-0400
TZOFFSETTO:-0500
TZNAME:EST
DTSTART:20211107T060000
END:STANDARD
BEGIN:DAYLIGHT
TZOFFSETFROM:-0500
TZOFFSETTO:-0400
TZNAME:EDT
DTSTART:20220313T070000
END:DAYLIGHT
BEGIN:STANDARD
TZOFFSETFROM:-0400
TZOFFSETTO:-0500
TZNAME:EST
DTSTART:20221106T060000
END:STANDARD
BEGIN:DAYLIGHT
TZOFFSETFROM:-0500
TZOFFSETTO:-0400
TZNAME:EDT
DTSTART:20230312T070000
END:DAYLIGHT
BEGIN:STANDARD
TZOFFSETFROM:-0400
TZOFFSETTO:-0500
TZNAME:EST
DTSTART:20231105T060000
END:STANDARD
END:VTIMEZONE
BEGIN:VTIMEZONE
TZID:America/Chicago
BEGIN:DAYLIGHT
TZOFFSETFROM:-0600
TZOFFSETTO:-0500
TZNAME:CDT
DTSTART:20210314T080000
END:DAYLIGHT
BEGIN:STANDARD
TZOFFSETFROM:-0500
TZOFFSETTO:-0600
TZNAME:CST
DTSTART:20211107T070000
END:STANDARD
BEGIN:DAYLIGHT
TZOFFSETFROM:-0600
TZOFFSETTO:-0500
TZNAME:CDT
DTSTART:20220313T080000
END:DAYLIGHT
BEGIN:STANDARD
TZOFFSETFROM:-0500
TZOFFSETTO:-0600
TZNAME:CST
DTSTART:20221106T070000
END:STANDARD
BEGIN:DAYLIGHT
TZOFFSETFROM:-0600
TZOFFSETTO:-0500
TZNAME:CDT
DTSTART:20230312T080000
END:DAYLIGHT
BEGIN:STANDARD
TZOFFSETFROM:-0500
TZOFFSETTO:-0600
TZNAME:CST
DTSTART:20231105T070000
END:STANDARD
END:VTIMEZONE
BEGIN:VEVENT
DTSTART;TZID=America/Los_Angeles:20221105T122500
DTEND;TZID=America/Los_Angeles:20221105T124500
DTSTAMP:20260420T020544
CREATED:20221102T214439Z
LAST-MODIFIED:20221102T214605Z
UID:19306-1667651100-1667652300@www.daretodreamstable.com
SUMMARY:SYNNIN AND WINNIN – Santa Anita race #1
DESCRIPTION:Dare To Dream Stable’s SYNNIN AND WINNIN runs at Santa Anita Park in race 1. Brian Koriner trains and Edwin Maldonado is the jockey.
URL:https://www.daretodreamstable.com/race/synnin-and-winnin-santa-anita-park-110522-race1/
LOCATION:Santa Anita Park\, 285 W Huntington Drive\, Arcadia\, CA\, 91007\, United States
END:VEVENT
BEGIN:VEVENT
DTSTART;TZID=America/New_York:20221106T150000
DTEND;TZID=America/New_York:20221106T160000
DTSTAMP:20260420T020544
CREATED:20221125T122527Z
LAST-MODIFIED:20221125T122820Z
UID:19317-1667746800-1667750400@www.daretodreamstable.com
SUMMARY:INSPEIGHTOFTRAINER – Churchill Downs race #3
DESCRIPTION:Dare To Dream Stable’s INSPEIGHTOFTRAINER runs at Churchill Downs in race 3. Christopher Davis trains and Florent Geroux is the jockey.
URL:https://www.daretodreamstable.com/race/inspeightoftrainer-churchill-downs-110622-race3/
LOCATION:Churchill Downs\, 700 Central Avenue\, Louisville\, KY\, 40208\, United States
END:VEVENT
BEGIN:VEVENT
DTSTART;TZID=America/Chicago:20221124T132500
DTEND;TZID=America/Chicago:20221124T140000
DTSTAMP:20260420T020544
CREATED:20221117T213123Z
LAST-MODIFIED:20221117T213345Z
UID:19313-1669296300-1669298400@www.daretodreamstable.com
SUMMARY:RUNAWAY HARRY – Fair Grounds race #4
DESCRIPTION:Dare To Dream Stable’s RUNAWAY HARRY runs at Fair Grounds in race 4. Michael Stidham trains and Adam Beschizza is the jockey.
URL:https://www.daretodreamstable.com/race/runaway-harry-fair-grounds-112422-race4/
LOCATION:Fair Grounds Race Course\, 1751 Gentilly Blvd\, New Orleans\, LA\, 70119\, United States
END:VEVENT
BEGIN:VEVENT
DTSTART;TZID=America/New_York:20221127T152000
DTEND;TZID=America/New_York:20221127T160000
DTSTAMP:20260420T020544
CREATED:20221030T193707Z
LAST-MODIFIED:20221125T122650Z
UID:19303-1669562400-1669564800@www.daretodreamstable.com
SUMMARY:INSPEIGHTOFTRAINER – Churchill Downs race #6
DESCRIPTION:Dare To Dream Stable’s INSPEIGHTOFTRAINER runs at Churchill Downs in race 6. Christopher Davis trains and Brian Hernandez Jr. is the jockey.
URL:https://www.daretodreamstable.com/race/inspeightoftrainer-churchill-downs-112722-race6/
LOCATION:Churchill Downs\, 700 Central Avenue\, Louisville\, KY\, 40208\, United States
END:VEVENT
END:VCALENDAR