BEGIN:VCALENDAR
VERSION:2.0
PRODID:-//Dare to Dream Stable - ECPv6.15.20//NONSGML v1.0//EN
CALSCALE:GREGORIAN
METHOD:PUBLISH
X-WR-CALNAME:Dare to Dream Stable
X-ORIGINAL-URL:https://www.daretodreamstable.com
X-WR-CALDESC:Events for Dare to Dream Stable
REFRESH-INTERVAL;VALUE=DURATION:PT1H
X-Robots-Tag:noindex
X-PUBLISHED-TTL:PT1H
BEGIN:VTIMEZONE
TZID:America/Chicago
BEGIN:DAYLIGHT
TZOFFSETFROM:-0600
TZOFFSETTO:-0500
TZNAME:CDT
DTSTART:20170312T080000
END:DAYLIGHT
BEGIN:STANDARD
TZOFFSETFROM:-0500
TZOFFSETTO:-0600
TZNAME:CST
DTSTART:20171105T070000
END:STANDARD
BEGIN:DAYLIGHT
TZOFFSETFROM:-0600
TZOFFSETTO:-0500
TZNAME:CDT
DTSTART:20180311T080000
END:DAYLIGHT
BEGIN:STANDARD
TZOFFSETFROM:-0500
TZOFFSETTO:-0600
TZNAME:CST
DTSTART:20181104T070000
END:STANDARD
BEGIN:DAYLIGHT
TZOFFSETFROM:-0600
TZOFFSETTO:-0500
TZNAME:CDT
DTSTART:20190310T080000
END:DAYLIGHT
BEGIN:STANDARD
TZOFFSETFROM:-0500
TZOFFSETTO:-0600
TZNAME:CST
DTSTART:20191103T070000
END:STANDARD
BEGIN:DAYLIGHT
TZOFFSETFROM:-0600
TZOFFSETTO:-0500
TZNAME:CDT
DTSTART:20200308T080000
END:DAYLIGHT
BEGIN:STANDARD
TZOFFSETFROM:-0500
TZOFFSETTO:-0600
TZNAME:CST
DTSTART:20201101T070000
END:STANDARD
END:VTIMEZONE
BEGIN:VTIMEZONE
TZID:America/New_York
BEGIN:DAYLIGHT
TZOFFSETFROM:-0500
TZOFFSETTO:-0400
TZNAME:EDT
DTSTART:20170312T070000
END:DAYLIGHT
BEGIN:STANDARD
TZOFFSETFROM:-0400
TZOFFSETTO:-0500
TZNAME:EST
DTSTART:20171105T060000
END:STANDARD
BEGIN:DAYLIGHT
TZOFFSETFROM:-0500
TZOFFSETTO:-0400
TZNAME:EDT
DTSTART:20180311T070000
END:DAYLIGHT
BEGIN:STANDARD
TZOFFSETFROM:-0400
TZOFFSETTO:-0500
TZNAME:EST
DTSTART:20181104T060000
END:STANDARD
BEGIN:DAYLIGHT
TZOFFSETFROM:-0500
TZOFFSETTO:-0400
TZNAME:EDT
DTSTART:20190310T070000
END:DAYLIGHT
BEGIN:STANDARD
TZOFFSETFROM:-0400
TZOFFSETTO:-0500
TZNAME:EST
DTSTART:20191103T060000
END:STANDARD
END:VTIMEZONE
BEGIN:VTIMEZONE
TZID:America/Los_Angeles
BEGIN:DAYLIGHT
TZOFFSETFROM:-0800
TZOFFSETTO:-0700
TZNAME:PDT
DTSTART:20170312T100000
END:DAYLIGHT
BEGIN:STANDARD
TZOFFSETFROM:-0700
TZOFFSETTO:-0800
TZNAME:PST
DTSTART:20171105T090000
END:STANDARD
BEGIN:DAYLIGHT
TZOFFSETFROM:-0800
TZOFFSETTO:-0700
TZNAME:PDT
DTSTART:20180311T100000
END:DAYLIGHT
BEGIN:STANDARD
TZOFFSETFROM:-0700
TZOFFSETTO:-0800
TZNAME:PST
DTSTART:20181104T090000
END:STANDARD
BEGIN:DAYLIGHT
TZOFFSETFROM:-0800
TZOFFSETTO:-0700
TZNAME:PDT
DTSTART:20190310T100000
END:DAYLIGHT
BEGIN:STANDARD
TZOFFSETFROM:-0700
TZOFFSETTO:-0800
TZNAME:PST
DTSTART:20191103T090000
END:STANDARD
END:VTIMEZONE
BEGIN:VEVENT
DTSTART;TZID=America/Chicago:20190104T144000
DTEND;TZID=America/Chicago:20190104T152000
DTSTAMP:20260421T201847
CREATED:20181229T231253Z
LAST-MODIFIED:20181229T231253Z
UID:14123-1546612800-1546615200@www.daretodreamstable.com
SUMMARY:SHOW AND TALE – Fair Grounds Race Course race #6
DESCRIPTION:Dare To Dream Stable’s SHOW AND TALE runs at Fair Grounds Race Course in race 6. Michael Stidham trains and Declan Carroll is the jockey.
URL:https://www.daretodreamstable.com/race/show-and-tale-fair-grounds-race-course-010419-race6/
LOCATION:Fair Grounds Race Course\, 1751 Gentilly Blvd\, New Orleans\, LA\, 70119\, United States
END:VEVENT
BEGIN:VEVENT
DTSTART;TZID=America/New_York:20181226T165500
DTEND;TZID=America/New_York:20181226T173000
DTSTAMP:20260421T201847
CREATED:20181222T163207Z
LAST-MODIFIED:20181222T163247Z
UID:14096-1545843300-1545845400@www.daretodreamstable.com
SUMMARY:BUNYAN'S AXE – Gulfstream Park race 11
DESCRIPTION:Dare To Dream Stable’s BUNYAN’S AXE runs at Gulfstream Park in race 11. Robert Falcone\, Jr. trains and Jonathan Gonzales is the jockey.
URL:https://www.daretodreamstable.com/race/bunyans-axe-gulfstream-park-122618-race11/
LOCATION:Gulfstream Park\, 901 S Federal Highway\, Hallandale Beach\, FL\, 33009\, United States
END:VEVENT
BEGIN:VEVENT
DTSTART;TZID=America/Los_Angeles:20181226T134500
DTEND;TZID=America/Los_Angeles:20181226T142000
DTSTAMP:20260421T201847
CREATED:20181222T162425Z
LAST-MODIFIED:20181222T162425Z
UID:14093-1545831900-1545834000@www.daretodreamstable.com
SUMMARY:SPICED PERFECTION – Santa Anita race #6 (La Brea Stakes G1 $300\,000)
DESCRIPTION:Dare To Dream Stable’s SPICED PERFECTION runs at Santa Anita in race 6\, The La Brea (G1) Stakes ($300\,000). Brian Koriner trains and Flavien Prat is the jockey.
URL:https://www.daretodreamstable.com/race/spiced-perfection-santa-anita-la-brea-stakes-122618-race6/
LOCATION:Santa Anita Park\, 285 W Huntington Drive\, Arcadia\, CA\, 91007\, United States
END:VEVENT
BEGIN:VEVENT
DTSTART;TZID=America/Chicago:20181222T164000
DTEND;TZID=America/Chicago:20181222T171500
DTSTAMP:20260421T201847
CREATED:20181220T213805Z
LAST-MODIFIED:20181220T213805Z
UID:14089-1545496800-1545498900@www.daretodreamstable.com
SUMMARY:MEMORY BANK – Fair Grounds Race Course race #10 (Buddy Diliberto Memorial Stakes)
DESCRIPTION:Dare To Dream Stable’s MEMORY BANK runs at Fair Grounds Race Course in race 10 (Buddy Diliberto Memorial Stakes).  Michael Stidham trains and Mitchell Murrill is the jockey.
URL:https://www.daretodreamstable.com/race/memory-bank-fair-grounds-race-course-race-10-buddy-diliberto-memorial-stakes-2018/
LOCATION:Fair Grounds Race Course\, 1751 Gentilly Blvd\, New Orleans\, LA\, 70119\, United States
END:VEVENT
BEGIN:VEVENT
DTSTART;TZID=America/New_York:20181213T210000
DTEND;TZID=America/New_York:20181213T213500
DTSTAMP:20260421T201847
CREATED:20181212T003305Z
LAST-MODIFIED:20181212T003305Z
UID:14085-1544734800-1544736900@www.daretodreamstable.com
SUMMARY:HE'S NO BULL – Turfway Park race #7
DESCRIPTION:Dare To Dream Stable’s HE’S NO BULL runs at Turfway Park in race 7. Danny Werre trains and Ronald Hisby is the jockey.
URL:https://www.daretodreamstable.com/race/hes-no-bull-turfway-park-121318-race7/
LOCATION:Turfway Park\, 7500 Turfway Road\, Florence\, KY\, 41042\, United States
END:VEVENT
BEGIN:VEVENT
DTSTART;TZID=America/Chicago:20181208T170500
DTEND;TZID=America/Chicago:20181208T173500
DTSTAMP:20260421T201847
CREATED:20181202T140305Z
LAST-MODIFIED:20181202T140343Z
UID:14069-1544288700-1544290500@www.daretodreamstable.com
SUMMARY:JOCKAMO'S SONG – Fair Grounds Race Course race #11 (Louisiana Champions Day Sprint Stakes)
DESCRIPTION:Dare To Dream Stable’s JOCKAMO’S SONG runs at Fair Grounds Race Course in race 11 (Louisiana Champions Day Sprint Stakes).  Michael Stidham trains and Mitchell Murrill is the jockey.
URL:https://www.daretodreamstable.com/race/jockamos-song-fair-grounds-race-course-race-11-louisiana-champions-day-sprint-2018/
LOCATION:Fair Grounds Race Course\, 1751 Gentilly Blvd\, New Orleans\, LA\, 70119\, United States
END:VEVENT
BEGIN:VEVENT
DTSTART;TZID=America/Los_Angeles:20181129T155000
DTEND;TZID=America/Los_Angeles:20181129T162000
DTSTAMP:20260421T201847
CREATED:20181125T163718Z
LAST-MODIFIED:20181125T163718Z
UID:14054-1543506600-1543508400@www.daretodreamstable.com
SUMMARY:CONCORD JET – Del Mar race #8
DESCRIPTION:Dare To Dream Stable’s CONCORD JET runs at Del Mar in race 8. Brian Koriner trains and Alonso Quinonez is the jockey.
URL:https://www.daretodreamstable.com/race/concord-jet-del-mar-112918-race8/
LOCATION:Del Mar\, 2260 Jimmy Durante Blvd\, Del Mar\, CA\, 92014\, United States
END:VEVENT
BEGIN:VEVENT
DTSTART;TZID=America/Chicago:20181124T162000
DTEND;TZID=America/Chicago:20181124T170000
DTSTAMP:20260421T201847
CREATED:20181119T123323Z
LAST-MODIFIED:20181119T123323Z
UID:14045-1543076400-1543078800@www.daretodreamstable.com
SUMMARY:MEMORY BANK – Fair Grounds Race Course race #9
DESCRIPTION:Dare To Dream Stable’s MEMORY BANK runs at Fair Grounds Race Course in race 9. Michael Stidham trains and Mitchell Murrill is the jockey.
URL:https://www.daretodreamstable.com/race/memory-bank-fair-grounds-112418-race9/
LOCATION:Fair Grounds Race Course\, 1751 Gentilly Blvd\, New Orleans\, LA\, 70119\, United States
END:VEVENT
BEGIN:VEVENT
DTSTART;TZID=America/New_York:20181123T162500
DTEND;TZID=America/New_York:20181123T170000
DTSTAMP:20260421T201847
CREATED:20181119T124208Z
LAST-MODIFIED:20181119T124208Z
UID:14048-1542990300-1542992400@www.daretodreamstable.com
SUMMARY:BUNYAN'S AXE – Gulfstream Park West race #9
DESCRIPTION:Dare To Dream Stable’s BUNYAN’S AXE runs at Gulfstream Park West in race 9. Robert Falcone\, Jr\, trains and Nik Juarez is the jockey.
URL:https://www.daretodreamstable.com/race/bunyans-axe-gulfstream-park-west-112318-race9/
LOCATION:Gulfstream Park\, 901 S Federal Highway\, Hallandale Beach\, FL\, 33009\, United States
END:VEVENT
BEGIN:VEVENT
DTSTART;TZID=America/Chicago:20181117T171500
DTEND;TZID=America/Chicago:20181117T180000
DTSTAMP:20260421T201847
CREATED:20181111T021235Z
LAST-MODIFIED:20181111T021235Z
UID:14017-1542474900-1542477600@www.daretodreamstable.com
SUMMARY:JOCKAMO'S SONG – Fair Grounds Race Course race #6 (The Heitai Stakes)
DESCRIPTION:Dare To Dream Stable’s JOCKAMO’S SONG runs at Fair Grounds Race Course in race 6 (The Hetai Stakes).  Michael Stidham trains and Mitchell Murrill is the jockey.
URL:https://www.daretodreamstable.com/race/jockamos-song-fair-grounds-race-course-race-6-heitai-stakes/
LOCATION:Fair Grounds Race Course\, 1751 Gentilly Blvd\, New Orleans\, LA\, 70119\, United States
END:VEVENT
BEGIN:VEVENT
DTSTART;TZID=America/Los_Angeles:20181111T154500
DTEND;TZID=America/Los_Angeles:20181111T162000
DTSTAMP:20260421T201847
CREATED:20181108T223250Z
LAST-MODIFIED:20181108T223250Z
UID:14007-1541951100-1541953200@www.daretodreamstable.com
SUMMARY:SPICED PERFECTION – Del Mar race #8 (The Betty Grable Stakes $100\,000)
DESCRIPTION:Dare To Dream Stable’s SPICED PERFECTION runs at Del Mar in race 8\, The Betty Grable Stakes ($100\,000). Brian Koriner trains and Flavien Prat is the jockey.
URL:https://www.daretodreamstable.com/race/spiced-perfection-del-mar-111118-race8/
LOCATION:Del Mar\, 2260 Jimmy Durante Blvd\, Del Mar\, CA\, 92014\, United States
END:VEVENT
BEGIN:VEVENT
DTSTART;TZID=America/New_York:20181111T121500
DTEND;TZID=America/New_York:20181111T125000
DTSTAMP:20260421T201847
CREATED:20181108T224037Z
LAST-MODIFIED:20181108T224037Z
UID:14010-1541938500-1541940600@www.daretodreamstable.com
SUMMARY:RAINBOW WARRIOR – Gulfstream Park West race #2
DESCRIPTION:Dare To Dream Stable’s RAINBOW WARRIOR runs at Gulfstream Park West in race 2. Michael Stidham trains and Emisael Jaramillo is the jockey.
URL:https://www.daretodreamstable.com/race/rainbow-warrior-gulfstream-park-west-111118-race2/
LOCATION:Gulfstream Park\, 901 S Federal Highway\, Hallandale Beach\, FL\, 33009\, United States
END:VEVENT
BEGIN:VEVENT
DTSTART;TZID=America/New_York:20181110T131500
DTEND;TZID=America/New_York:20181110T134500
DTSTAMP:20260421T201847
CREATED:20181107T214245Z
LAST-MODIFIED:20181107T214245Z
UID:14003-1541855700-1541857500@www.daretodreamstable.com
SUMMARY:SHE'S A FINE LINE – Churchill Downs race #2
DESCRIPTION:Dare To Dream Stable’s SHE’S A FINE LINE runs at Churchill Downs in race 2. Christopher Davis trains and Adam Beschizza is the jockey.
URL:https://www.daretodreamstable.com/race/shes-a-fine-line-churchill-downs-111018-race2/
LOCATION:Churchill Downs\, 700 Central Avenue\, Louisville\, KY\, 40208\, United States
END:VEVENT
BEGIN:VEVENT
DTSTART;TZID=America/Chicago:20181027T174500
DTEND;TZID=America/Chicago:20181027T183000
DTSTAMP:20260421T201847
CREATED:20181025T120402Z
LAST-MODIFIED:20181025T120402Z
UID:13983-1540662300-1540665000@www.daretodreamstable.com
SUMMARY:MEMORY BANK – Hawthorne Racecourse race #7 (Buck's Boy Handicap)
DESCRIPTION:Dare To Dream Stable’s MEMORY BANK runs at Hawthorne Racecourse in race 7 (Buck’s Boy Handicap). Michael Stidham trains and Edgar Perez is the jockey.
URL:https://www.daretodreamstable.com/race/memory-bank-hawthorne-racecourse-102718-race7/
LOCATION:Hawthorne Race Course\, 3501 S. Laramie\, Stickney/Cicero\, IL\, 60804\, United States
END:VEVENT
BEGIN:VEVENT
DTSTART;TZID=America/New_York:20181019T161500
DTEND;TZID=America/New_York:20181019T165000
DTSTAMP:20260421T201847
CREATED:20181018T233416Z
LAST-MODIFIED:20181018T233416Z
UID:13965-1539965700-1539967800@www.daretodreamstable.com
SUMMARY:RAINBOW WARRIOR – Indiana Grand Race Course race #6
DESCRIPTION:Dare To Dream Stable’s RAINBOW WARRIOR runs at Indiana Grand Race Course in race 6. Michael Stidham trains and Alex Canchari is the jockey.
URL:https://www.daretodreamstable.com/race/rainbow-warrior-indiana-grand-race-course-101918-race6/
LOCATION:Horseshoe Indianapolis\, 4300 N. Michigan Road\, Shelbyville\, IN\, 46176\, United States
END:VEVENT
BEGIN:VEVENT
DTSTART;TZID=America/New_York:20181014T140000
DTEND;TZID=America/New_York:20181014T143500
DTSTAMP:20260421T201847
CREATED:20181012T002555Z
LAST-MODIFIED:20181012T002555Z
UID:13932-1539525600-1539527700@www.daretodreamstable.com
SUMMARY:HE'S NO BULL – Keeneland race #3
DESCRIPTION:Dare To Dream Stable’s HE’S NO BULL runs at Keeneland in race 3. Danny Werre trains and Dean Sarvis is the jockey.
URL:https://www.daretodreamstable.com/race/hes-no-bull-keeneland-101418-race3/
LOCATION:Keeneland\, 4201 Versailles Road\, Lexington\, KY\, 40510\, United States
END:VEVENT
BEGIN:VEVENT
DTSTART;TZID=America/New_York:20181011T142500
DTEND;TZID=America/New_York:20181011T150000
DTSTAMP:20260421T201847
CREATED:20181006T195751Z
LAST-MODIFIED:20181006T200036Z
UID:13921-1539267900-1539270000@www.daretodreamstable.com
SUMMARY:BUNYAN'S AXE – Belmont Park race #3
DESCRIPTION:Dare To Dream Stable’s BUNYAN’S AXE runs at Belmont Park in race 3. Robert Falcone\, Jr\, trains and Rajiv Maragh is the jockey.
URL:https://www.daretodreamstable.com/race/bunyans-axe-belmont-park-101118-race3/
LOCATION:Belmont Park\, 2150 Hempstead Turnpike\, Elmont\, NY\, 11003\, United States
END:VEVENT
BEGIN:VEVENT
DTSTART;TZID=America/Los_Angeles:20181007T155000
DTEND;TZID=America/Los_Angeles:20181007T162500
DTSTAMP:20260421T201847
CREATED:20181005T115635Z
LAST-MODIFIED:20181005T115635Z
UID:13917-1538927400-1538929500@www.daretodreamstable.com
SUMMARY:CONCORD JET – Santa Anita Park race #8
DESCRIPTION:Dare To Dream Stable’s CONCORD JET runs at Santa Anita Park in race 8. Brian Koriner trains and Luis Fuentes is the jockey.
URL:https://www.daretodreamstable.com/race/concord-jet-santa-anita-park-10-07-18-race8/
LOCATION:Santa Anita Park\, 285 W Huntington Drive\, Arcadia\, CA\, 91007\, United States
END:VEVENT
BEGIN:VEVENT
DTSTART;TZID=America/Los_Angeles:20180929T173000
DTEND;TZID=America/Los_Angeles:20180929T180000
DTSTAMP:20260421T201847
CREATED:20180928T021520Z
LAST-MODIFIED:20180928T021520Z
UID:13812-1538242200-1538244000@www.daretodreamstable.com
SUMMARY:SPICED PERFECTION – Santa Anita race #12 (Unzip Me Stakes)
DESCRIPTION:Dare To Dream Stable’s SPICED PERFECTION runs at Santa Anita in race 12\, The Unzip Me Stakes ($75\,000). Brian Koriner trains and Joseph Talamo is the jockey.
URL:https://www.daretodreamstable.com/race/spiced-perfection-santa-anita-092918-race12/
LOCATION:Santa Anita Park\, 285 W Huntington Drive\, Arcadia\, CA\, 91007\, United States
END:VEVENT
BEGIN:VEVENT
DTSTART;TZID=America/Los_Angeles:20180923T184500
DTEND;TZID=America/Los_Angeles:20180923T192000
DTSTAMP:20260421T201847
CREATED:20180921T002151Z
LAST-MODIFIED:20180921T002151Z
UID:13804-1537728300-1537730400@www.daretodreamstable.com
SUMMARY:SWISS CHALET – Los Alamitos Race Course race #1
DESCRIPTION:Dare To Dream Stable’s SWISS CHALET runs at Los Alamitos Race Course in race 1. Brian Koriner trains and Edgar Payeras is the jockey.
URL:https://www.daretodreamstable.com/race/swiss-chalet-los-alamitos-092318-race1/
LOCATION:Los Alamitos Race Course\, 4961 Katella Avenue\, Los Alamitos\, CA\, 90720\, United States
END:VEVENT
BEGIN:VEVENT
DTSTART;TZID=America/New_York:20180922T145000
DTEND;TZID=America/New_York:20180922T153000
DTSTAMP:20260421T201847
CREATED:20180918T103408Z
LAST-MODIFIED:20180918T103408Z
UID:13797-1537627800-1537630200@www.daretodreamstable.com
SUMMARY:HE'S NO BULL – Thistledown race #4
DESCRIPTION:Dare To Dream Stable’s HE’S NO BULL runs at Thistledown in race 4. Danny Werre trains and Dean Sarvis is the jockey.
URL:https://www.daretodreamstable.com/race/hes-no-bull-thistledown-race4/
LOCATION:Thistledown Racetrack\, 21501 Emery Rd\, North Randall\, OH\, 44128\, United States
END:VEVENT
BEGIN:VEVENT
DTSTART;TZID=America/Chicago:20180922T135000
DTEND;TZID=America/Chicago:20180922T143000
DTSTAMP:20260421T201847
CREATED:20180921T001526Z
LAST-MODIFIED:20180921T001526Z
UID:13801-1537624200-1537626600@www.daretodreamstable.com
SUMMARY:JOCKAMO'S SONG – Arlington Park race #3
DESCRIPTION:Dare To Dream Stable’s JOCKAMO’S SONG runs at Arlington Park in race 3. Michael Stidham trains and Mitchell Murrill is the jockey.
URL:https://www.daretodreamstable.com/race/jockamos-song-arlington-park-092218-race3/
LOCATION:Arlington Park\, 2200 West Euclid Avenue\, Arlington Heights\, IL\, 60006
END:VEVENT
BEGIN:VEVENT
DTSTART;TZID=America/Chicago:20180921T171500
DTEND;TZID=America/Chicago:20180921T180000
DTSTAMP:20260421T201847
CREATED:20180916T215556Z
LAST-MODIFIED:20180916T215645Z
UID:13794-1537550100-1537552800@www.daretodreamstable.com
SUMMARY:MEMORY BANK – Arlington Park race #9
DESCRIPTION:Dare To Dream Stable’s MEMORY BANK runs at Arlington Park in race 9. Michael Stidham trains and Mitchell Murrill is the jockey.
URL:https://www.daretodreamstable.com/race/memory-bank-arlington-park-092118-race9/
LOCATION:Arlington Park\, 2200 West Euclid Avenue\, Arlington Heights\, IL\, 60006
END:VEVENT
BEGIN:VEVENT
DTSTART;TZID=America/Chicago:20180913T150500
DTEND;TZID=America/Chicago:20180913T153500
DTSTAMP:20260421T201847
CREATED:20180909T011559Z
LAST-MODIFIED:20180909T011559Z
UID:13786-1536851100-1536852900@www.daretodreamstable.com
SUMMARY:ALLAIRE – Arlington Park race #5
DESCRIPTION:Dare To Dream Stable’s ALLAIRE runs at Arlington Park in race 5. Christopher Davis trains and Mitchell Murrill is the jockey.
URL:https://www.daretodreamstable.com/race/allaire-arlington-park-091318-race5/
LOCATION:Arlington Park\, 2200 West Euclid Avenue\, Arlington Heights\, IL\, 60006
END:VEVENT
BEGIN:VEVENT
DTSTART;TZID=America/Los_Angeles:20180909T125000
DTEND;TZID=America/Los_Angeles:20180909T133000
DTSTAMP:20260421T201847
CREATED:20180907T153055Z
LAST-MODIFIED:20180907T153055Z
UID:13778-1536497400-1536499800@www.daretodreamstable.com
SUMMARY:AVAIL – Los Alamitos Race Course race #1
DESCRIPTION:Dare To Dream Stable’s AVAIL runs at Los Alamitos Race Course in race 1. Brian Koriner trains and Ruben Fuentes is the jockey. \n 
URL:https://www.daretodreamstable.com/race/avail-los-alamitos-race-course-090918-race1/
LOCATION:Los Alamitos Race Course\, 4961 Katella Avenue\, Los Alamitos\, CA\, 90720\, United States
END:VEVENT
BEGIN:VEVENT
DTSTART;TZID=America/Chicago:20180908T145000
DTEND;TZID=America/Chicago:20180908T153000
DTSTAMP:20260421T201847
CREATED:20180907T153651Z
LAST-MODIFIED:20180907T153651Z
UID:13782-1536418200-1536420600@www.daretodreamstable.com
SUMMARY:SHE'S A FINE LINE – Arlington Park race #5
DESCRIPTION:Dare To Dream Stable’s SHE’S A FINE LINE runs at Arlington Park in race 5. Christopher Davis trains and Sophie Doyle is the jockey.
URL:https://www.daretodreamstable.com/race/shes-a-fine-line-arlington-park-090818-race5/
LOCATION:Arlington Park\, 2200 West Euclid Avenue\, Arlington Heights\, IL\, 60006
END:VEVENT
BEGIN:VEVENT
DTSTART;TZID=America/Los_Angeles:20180908T134500
DTEND;TZID=America/Los_Angeles:20180908T143000
DTSTAMP:20260421T201847
CREATED:20180907T152013Z
LAST-MODIFIED:20180907T152057Z
UID:13775-1536414300-1536417000@www.daretodreamstable.com
SUMMARY:SWISS CHALET – Los Alamitos Race Course race #3
DESCRIPTION:Dare To Dream Stable’s SWISS CHALET runs at Los Alamitos Race Course in race 3. Brian Koriner trains and Edgar Payeras is the jockey.
URL:https://www.daretodreamstable.com/race/swiss-chalet-los-alamitos-090818-race3/
LOCATION:Los Alamitos Race Course\, 4961 Katella Avenue\, Los Alamitos\, CA\, 90720\, United States
END:VEVENT
BEGIN:VEVENT
DTSTART;TZID=America/Chicago:20180906T143000
DTEND;TZID=America/Chicago:20180906T150000
DTSTAMP:20260421T201847
CREATED:20180905T203840Z
LAST-MODIFIED:20180905T203840Z
UID:13770-1536244200-1536246000@www.daretodreamstable.com
SUMMARY:RAINBOW WARRIOR – Arlington Park race #4
DESCRIPTION:Dare To Dream Stable’s RAINBOW WARRIOR runs at Arlington Park in race 4. Michael Stidham trains and Christopher Emigh is the jockey.
URL:https://www.daretodreamstable.com/race/rainbow-warrior-arlington-park-090618-race4/
LOCATION:Arlington Park\, 2200 West Euclid Avenue\, Arlington Heights\, IL\, 60006
END:VEVENT
BEGIN:VEVENT
DTSTART;TZID=America/Chicago:20180901T142500
DTEND;TZID=America/Chicago:20180901T150000
DTSTAMP:20260421T201847
CREATED:20180829T234109Z
LAST-MODIFIED:20180829T234109Z
UID:13754-1535811900-1535814000@www.daretodreamstable.com
SUMMARY:MISTRESS AT SEA – Arlington Park race #4
DESCRIPTION:Dare To Dream Stable’s MISTRESS AT SEA runs at Arlington Park in race 4. Michael Stidham trains and Christopher Emigh is the jockey.
URL:https://www.daretodreamstable.com/race/mistress-at-sea-arlington-park-090118-race4/
LOCATION:Arlington Park\, 2200 West Euclid Avenue\, Arlington Heights\, IL\, 60006
END:VEVENT
BEGIN:VEVENT
DTSTART;TZID=America/Los_Angeles:20180826T142000
DTEND;TZID=America/Los_Angeles:20180826T145000
DTSTAMP:20260421T201847
CREATED:20180824T151623Z
LAST-MODIFIED:20180824T151623Z
UID:13716-1535293200-1535295000@www.daretodreamstable.com
SUMMARY:CONCORD JET – Del Mar race #2
DESCRIPTION:Dare To Dream Stable’s CONCORD JET runs at Del Mar in race 2. Brian Koriner trains and Ruben Fuentes is the jockey.
URL:https://www.daretodreamstable.com/race/concord-jet-del-mar-082618-race2/
LOCATION:Del Mar\, 2260 Jimmy Durante Blvd\, Del Mar\, CA\, 92014\, United States
END:VEVENT
END:VCALENDAR