BEGIN:VCALENDAR
VERSION:2.0
PRODID:-//Dare to Dream Stable - ECPv6.15.20//NONSGML v1.0//EN
CALSCALE:GREGORIAN
METHOD:PUBLISH
X-WR-CALNAME:Dare to Dream Stable
X-ORIGINAL-URL:https://www.daretodreamstable.com
X-WR-CALDESC:Events for Dare to Dream Stable
REFRESH-INTERVAL;VALUE=DURATION:PT1H
X-Robots-Tag:noindex
X-PUBLISHED-TTL:PT1H
BEGIN:VTIMEZONE
TZID:America/New_York
BEGIN:DAYLIGHT
TZOFFSETFROM:-0500
TZOFFSETTO:-0400
TZNAME:EDT
DTSTART:20220313T070000
END:DAYLIGHT
BEGIN:STANDARD
TZOFFSETFROM:-0400
TZOFFSETTO:-0500
TZNAME:EST
DTSTART:20221106T060000
END:STANDARD
BEGIN:DAYLIGHT
TZOFFSETFROM:-0500
TZOFFSETTO:-0400
TZNAME:EDT
DTSTART:20230312T070000
END:DAYLIGHT
BEGIN:STANDARD
TZOFFSETFROM:-0400
TZOFFSETTO:-0500
TZNAME:EST
DTSTART:20231105T060000
END:STANDARD
BEGIN:DAYLIGHT
TZOFFSETFROM:-0500
TZOFFSETTO:-0400
TZNAME:EDT
DTSTART:20240310T070000
END:DAYLIGHT
BEGIN:STANDARD
TZOFFSETFROM:-0400
TZOFFSETTO:-0500
TZNAME:EST
DTSTART:20241103T060000
END:STANDARD
END:VTIMEZONE
BEGIN:VEVENT
DTSTART;TZID=America/New_York:20231103T141000
DTEND;TZID=America/New_York:20231103T144500
DTSTAMP:20260420T003453
CREATED:20231029T145159Z
LAST-MODIFIED:20231029T145547Z
UID:20275-1699020600-1699022700@www.daretodreamstable.com
SUMMARY:ICED MOCHA – Aqueduct Racetrack race #5
DESCRIPTION:Dare To Dream Stable’s ICED MOCHA runs at Aqueduct Racetrack in race 5. Michael Stidham trains and Madison Olver is the jockey.
URL:https://www.daretodreamstable.com/race/iced-mocha-aqueduct-racetrack-110323-race5/
LOCATION:Aqueduct Racetrack\, 110-00 Rockaway Blvd.\, Jamaica\, NY\, 11420\, United States
END:VEVENT
END:VCALENDAR