BEGIN:VCALENDAR
VERSION:2.0
PRODID:-//Dare to Dream Stable - ECPv6.15.20//NONSGML v1.0//EN
CALSCALE:GREGORIAN
METHOD:PUBLISH
X-WR-CALNAME:Dare to Dream Stable
X-ORIGINAL-URL:https://www.daretodreamstable.com
X-WR-CALDESC:Events for Dare to Dream Stable
REFRESH-INTERVAL;VALUE=DURATION:PT1H
X-Robots-Tag:noindex
X-PUBLISHED-TTL:PT1H
BEGIN:VTIMEZONE
TZID:America/New_York
BEGIN:DAYLIGHT
TZOFFSETFROM:-0500
TZOFFSETTO:-0400
TZNAME:EDT
DTSTART:20220313T070000
END:DAYLIGHT
BEGIN:STANDARD
TZOFFSETFROM:-0400
TZOFFSETTO:-0500
TZNAME:EST
DTSTART:20221106T060000
END:STANDARD
BEGIN:DAYLIGHT
TZOFFSETFROM:-0500
TZOFFSETTO:-0400
TZNAME:EDT
DTSTART:20230312T070000
END:DAYLIGHT
BEGIN:STANDARD
TZOFFSETFROM:-0400
TZOFFSETTO:-0500
TZNAME:EST
DTSTART:20231105T060000
END:STANDARD
BEGIN:DAYLIGHT
TZOFFSETFROM:-0500
TZOFFSETTO:-0400
TZNAME:EDT
DTSTART:20240310T070000
END:DAYLIGHT
BEGIN:STANDARD
TZOFFSETFROM:-0400
TZOFFSETTO:-0500
TZNAME:EST
DTSTART:20241103T060000
END:STANDARD
END:VTIMEZONE
BEGIN:VEVENT
DTSTART;TZID=America/New_York:20231010T134000
DTEND;TZID=America/New_York:20231010T142000
DTSTAMP:20260419T161430
CREATED:20231004T115157Z
LAST-MODIFIED:20231004T115157Z
UID:20231-1696945200-1696947600@www.daretodreamstable.com
SUMMARY:ICED MOCHA – Finger Lakes Racetrack race #2
DESCRIPTION:Dare To Dream Stable’s ICED MOCHA runs at Finger Lakes Racetrack in race 2. Michael Stidham trains and Keiber J. Coa is the jockey.
URL:https://www.daretodreamstable.com/race/iced-mocha-finger-lakes-racetrack-101023-race2/
LOCATION:Finger Lakes Racetrack\, 5857 NY 96\, Farmington\, NY\, 14425\, United States
END:VEVENT
END:VCALENDAR