BEGIN:VCALENDAR
VERSION:2.0
PRODID:-//Dare to Dream Stable - ECPv6.15.20//NONSGML v1.0//EN
CALSCALE:GREGORIAN
METHOD:PUBLISH
X-ORIGINAL-URL:https://www.daretodreamstable.com
X-WR-CALDESC:Events for Dare to Dream Stable
REFRESH-INTERVAL;VALUE=DURATION:PT1H
X-Robots-Tag:noindex
X-PUBLISHED-TTL:PT1H
BEGIN:VTIMEZONE
TZID:America/New_York
BEGIN:DAYLIGHT
TZOFFSETFROM:-0500
TZOFFSETTO:-0400
TZNAME:EDT
DTSTART:20210314T070000
END:DAYLIGHT
BEGIN:STANDARD
TZOFFSETFROM:-0400
TZOFFSETTO:-0500
TZNAME:EST
DTSTART:20211107T060000
END:STANDARD
BEGIN:DAYLIGHT
TZOFFSETFROM:-0500
TZOFFSETTO:-0400
TZNAME:EDT
DTSTART:20220313T070000
END:DAYLIGHT
BEGIN:STANDARD
TZOFFSETFROM:-0400
TZOFFSETTO:-0500
TZNAME:EST
DTSTART:20221106T060000
END:STANDARD
BEGIN:DAYLIGHT
TZOFFSETFROM:-0500
TZOFFSETTO:-0400
TZNAME:EDT
DTSTART:20230312T070000
END:DAYLIGHT
BEGIN:STANDARD
TZOFFSETFROM:-0400
TZOFFSETTO:-0500
TZNAME:EST
DTSTART:20231105T060000
END:STANDARD
END:VTIMEZONE
BEGIN:VEVENT
DTSTART;TZID=America/New_York:20220615T151000
DTEND;TZID=America/New_York:20220615T154500
DTSTAMP:20260420T084311
CREATED:20220611T111417Z
LAST-MODIFIED:20220611T111653Z
UID:18891-1655305800-1655307900@www.daretodreamstable.com
SUMMARY:STRIKE THE TOP – Presque Isle Downs race #5
DESCRIPTION:Dare To Dream Stable’s STRIKE THE TOP runs at Presque Isle Downs in race 5. Christopher Davis trains and Rocco Bowen is the jockey.
URL:https://www.daretodreamstable.com/race/strike-the-top-presque-isle-downs-061522-race-5/
LOCATION:Presque Isle Downs\, 8199 Perry Hwy\, Erie\, PA\, 16509\, United States
END:VEVENT
END:VCALENDAR